BEGIN:VCALENDAR
VERSION:2.0
PRODID:-//ChamberMaster//Event Calendar 2.0//EN
METHOD:PUBLISH
X-PUBLISHED-TTL:P3D
REFRESH-INTERVAL:P3D
CALSCALE:GREGORIAN
BEGIN:VEVENT
DTSTART:20190806T183000Z
DTEND:20190806T200000Z
X-MICROSOFT-CDO-ALLDAYEVENT:FALSE
SUMMARY:Inspire: A conversation with Doug Wilson
DESCRIPTION:Join us for another Inspire event\, this month we will be sitting down with Doug Wilson from Deloitte. \n\n\n\nDoug is a Chartered Accountant with over 27 years' experience working predominately for Deloitte Hamilton\, with the exception of three years working in the UK.\n\n\n\nWith over twelve years as a partner at Deloitte\, Doug's primary focus is largely acting as a trusted advisor to his clients.  This can involve sitting on advisory boards\, or just working alongside business owners to help identify and achieve their growth strategies.\n\n\n\nGrowth can come with many challenges\, which require careful navigation based on the strategic choices that have been made. Doug plays a key role in helping challenge the thinking of his clients by setting aspirational business goals\, and then providing the necessary support and insights to ensure any resulting growth is sustainable.\n\n\n\nExperience\n\nDoug draws on a wide variety of experience anchored on his accounting knowledge\, but combines many years of project type engagements\, and strategic advisory work.  Over the last several years he has focused his advisory work on corporate finance related projects in the following related areas: Strategic Planning\; Business structuring\; Financial advisory\; Business sales/acquisitions\; Valuations\; Capital raising\; and Succession planning.\n\n\n\nDoug also has several governance roles covering 'for profit' and 'not for profit' organisations and this provides a solid basis in understanding how to work on a business rather than in a business.
X-ALT-DESC;FMTTYPE=text/html:Join us for another Inspire event\, this month we will be sitting down with Doug Wilson from Deloitte.&nbsp\;<br />\n<br />\nDoug is a Chartered Accountant with over 27 years&rsquo\; experience working predominately for Deloitte Hamilton\, with the exception of three years working in the UK.<br />\n<br />\nWith over twelve years as a partner at Deloitte\, Doug&rsquo\;s primary focus is largely acting as a trusted advisor to his clients.&nbsp\; This can involve sitting on advisory boards\, or just working alongside business owners to help identify and achieve their growth strategies.<br />\n<br />\nGrowth can come with many challenges\, which require careful navigation based on the strategic choices that have been made. Doug plays a key role in helping challenge the thinking of his clients by setting aspirational business goals\, and then providing the necessary support and insights to ensure any resulting growth is sustainable.<br />\n<br />\nExperience<br />\nDoug draws on a wide variety of experience anchored on his accounting knowledge\, but combines many years of project type engagements\, and strategic advisory work.&nbsp\; Over the last several years he has focused his advisory work on corporate finance related projects in the following related areas: Strategic Planning\; Business structuring\; Financial advisory\; Business sales/acquisitions\; Valuations\; Capital raising\; and Succession planning.<br />\n<br />\nDoug also has several governance roles covering &lsquo\;for profit&rsquo\; and &lsquo\;not for profit&rsquo\; organisations and this provides a solid basis in understanding how to work on a business rather than in a business.
LOCATION:Cafe Agora Kent Street\, Frankton
UID:e.2751.2666
SEQUENCE:3
DTSTAMP:20260422T084251Z
URL:https://business.waikatochamber.co.nz/events/details/inspire-a-conversation-with-doug-wilson-2666
END:VEVENT

END:VCALENDAR
