BEGIN:VCALENDAR
VERSION:2.0
PRODID:-//ChamberMaster//Event Calendar 2.0//EN
METHOD:PUBLISH
X-PUBLISHED-TTL:P3D
REFRESH-INTERVAL:P3D
CALSCALE:GREGORIAN
BEGIN:VEVENT
DTSTART:20180501T183000Z
DTEND:20180501T200000Z
X-MICROSOFT-CDO-ALLDAYEVENT:FALSE
SUMMARY:Inspire: A chat with Tony Giles
DESCRIPTION:Tony Giles has worked with Dairy Goat Co-operative ("DGC") since 1999\, the last 4   years as CEO. He is stepping down from that role in May 2018.\n\n\n\nOver that period DGC has grown from a small independent Co-operative with a turnover of $15m and a staff of 5\, to a significant Waikato-based export business employing 230+ people and with a turnover of $230m.\n\n\n\nDGC specialises & leads the world in goat milk formula for infants and children\; exporting its branded formula to over 30 countries worldwide.\n\n\n\nTony is Hamilton born\, bred and educated (HBHS and Waikato University). Prior to DGC he worked for Livestock Improvement for 10 years in finance\, commercial and marketing roles.\n\n\n\nHe has also previously been on the board of Northern Districts Cricket including 3 years as Chairman.
X-ALT-DESC;FMTTYPE=text/html:<span style="font-family:arial\,sans-serif\;"><span style="font-size:10.0pt\;">Tony Giles has worked with Dairy Goat Co-operative (&ldquo\;<span data-scayt-lang="en_US" data-scayt-word="DGC" style="background-position-x:52%\;background-position-y:100%\;">DGC</span></span>&rdquo\;) since 1999\, the last 4 &frac12\; years as CEO. He is stepping down from that role in May 2018.</span><br />\n<br />\n<span style="font-family:arial\,sans-serif\;"><span style="font-size:10.0pt\;"><span style="font-variant-ligatures:normal\;font-variant-caps:normal\;orphans:2\;text-align:start\;widows:2\;-webkit-text-stroke-width:0px\;text-decoration-style:initial\;word-spacing:0px\;">Over that period&nbsp\;<span data-scayt-lang="en_US" data-scayt-word="DGC" style="background-position-x:52%\;background-position-y:100%\;">DGC</span></span>&nbsp\;has grown from a small independent Co-operative with a turnover of $<span data-scayt-lang="en_US" data-scayt-word="15m" style="background-position-x:52%\;background-position-y:100%\;">15m</span></span>&nbsp\;and a staff of 5\, to a significant Waikato-based export business employing 230+ people and with a turnover of $<span data-scayt-lang="en_US" data-scayt-word="230m" style="background-position-x:52%\;background-position-y:100%\;">230m</span></span>.<br />\n<br />\n<span style="font-family:arial\,sans-serif\;"><span style="font-size:10.0pt\;"><span data-scayt-lang="en_US" data-scayt-word="DGC" style="background-position-x:52%\;background-position-y:100%\;"><span style="font-variant-ligatures:normal\;font-variant-caps:normal\;orphans:2\;text-align:start\;widows:2\;-webkit-text-stroke-width:0px\;text-decoration-style:initial\;word-spacing:0px\;">DGC</span></span>&nbsp\;<span data-scayt-lang="en_US" data-scayt-word="specialises" style="background-position-x:52%\;background-position-y:100%\;">specialises</span></span>&nbsp\;&amp\; leads the world in goat milk formula for infants and children\; exporting its branded formula to over 30 countries worldwide.</span><br />\n<br />\n<span style="font-family:arial\,sans-serif\;"><span style="font-size:10.0pt\;"><span style="font-variant-ligatures:normal\;font-variant-caps:normal\;orphans:2\;text-align:start\;widows:2\;-webkit-text-stroke-width:0px\;text-decoration-style:initial\;word-spacing:0px\;">Tony is Hamilton born\, bred and educated (<span data-scayt-lang="en_US" data-scayt-word="HBHS" style="background-position-x:52%\;background-position-y:100%\;">HBHS</span></span>&nbsp\;and Waikato University). Prior to&nbsp\;<span data-scayt-lang="en_US" data-scayt-word="DGC" style="background-position-x:52%\;background-position-y:100%\;">DGC</span></span>&nbsp\;he worked for Livestock Improvement for 10 years in finance\, commercial and marketing roles.</span><br />\n<br />\n<span style="font-family:arial\,sans-serif\;"><span style="font-size:10.0pt\;"><span style="font-variant-ligatures:normal\;font-variant-caps:normal\;orphans:2\;text-align:start\;widows:2\;-webkit-text-stroke-width:0px\;text-decoration-style:initial\;word-spacing:0px\;">He has also previously been on the board of Northern Districts Cricket including 3 years as Chairman.</span></span></span><br />\n<br />\n&nbsp\;
LOCATION:Ventura Inn & Suites Hamilton 23 Clarence St\, Hamilton 3204
UID:e.2751.2303
SEQUENCE:3
DTSTAMP:20260423T075423Z
URL:https://business.waikatochamber.co.nz/events/details/inspire-a-chat-with-tony-giles-2303
END:VEVENT

END:VCALENDAR
