BEGIN:VCALENDAR
VERSION:2.0
PRODID:-//ChamberMaster//Event Calendar 2.0//EN
METHOD:PUBLISH
X-PUBLISHED-TTL:P3D
REFRESH-INTERVAL:P3D
CALSCALE:GREGORIAN
BEGIN:VEVENT
DTSTART:20200602T200000Z
DTEND:20200602T210000Z
X-MICROSOFT-CDO-ALLDAYEVENT:FALSE
SUMMARY:Inspire: A chat with Terry Wilson
DESCRIPTION:Join us for Inspire online.. we'll be having a chat with Terry Wilson\, the person behind the Mitre10 Mega stores in Hamilton.\n\n\n\nTerry built his first business to an award-winning level only to then have it all taken from him the very next year\, but like many success stories Terry worked his way back to the top by using his learnings and applying them in all different fields and has seen great success in more than one industry\, Terry built and grew a tech company he then sold into the US. He then brought a small Mitre10 store in Auckland as a retirement income\, but he just couldn't help himself and use his momentum to be now the owner/operator of both Mitre10 Mega stores in Hamilton.
X-ALT-DESC;FMTTYPE=text/html:Join us for Inspire online.. we&#39\;ll be having a chat with Terry Wilson\, the person behind the Mitre10 Mega stores in Hamilton.<br />\n<br style="font-family: Roboto\, sans-serif\;" />\n<span style="font-family: Roboto\, sans-serif\;">Terry built his first business to an award-winning level only to then have it all taken from him the very next year\, but like many success stories Terry worked his way back to the top by using his learnings and applying them in all different fields and has seen great success in more than one industry\, Terry built and grew a tech company he then sold into the US. He then brought a small Mitre10 store in Auckland as a retirement income\, but he just couldn&rsquo\;t help himself and use his momentum to be now the owner/operator of both Mitre10 Mega stores in Hamilton.</span><br style="font-family: Roboto\, sans-serif\;" />\n<br />\n&nbsp\;
LOCATION:The link to join this online event will be included in the confirmation email you receive once registered.
UID:e.2751.2731
SEQUENCE:3
DTSTAMP:20260421T164738Z
URL:https://business.waikatochamber.co.nz/events/details/inspire-a-chat-with-terry-wilson-2731
END:VEVENT

END:VCALENDAR
