BEGIN:VCALENDAR
VERSION:2.0
PRODID:-//ChamberMaster//Event Calendar 2.0//EN
METHOD:PUBLISH
X-PUBLISHED-TTL:P3D
REFRESH-INTERVAL:P3D
CALSCALE:GREGORIAN
BEGIN:VEVENT
DTSTART:20200630T184500Z
DTEND:20200630T200000Z
X-MICROSOFT-CDO-ALLDAYEVENT:FALSE
SUMMARY:Inspire: A chat with Tania Simpson
DESCRIPTION:Inspire: A chat with Tania Simpson \n\n\n\nJoin us for the July Inspire event of 2020. The first Wednesday of every month\, Inspire brings a new inspirational speaker to share their story and connect like-minded people.\n\nInspire events are sponsored by LINK Business Brokers.\n\n\n\nTania\, a former accounting assistant\, threw in the corporate life after over 20 years in banking to create the movable food market in the Waikato. Known for being the mastermind behind Gourmet in the Gardens\, Tania is sure to Inspire!
X-ALT-DESC;FMTTYPE=text/html:<span style="font-size:14px\;">Inspire: A chat with Tania Simpson&nbsp\;</span><br />\n<br />\n<span style="font-size:12px\;"><span style="font-family:arial\;"><span style="color:#000000\;"><span style="font-size:14px\;">Join us for the July Inspire event of 2020. The first Wednesday of every month\, Inspire brings a new inspirational speaker to share their story and connect like-minded people.<br />\nInspire events are sponsored by <a href="https://linkbusiness.co.nz/">LINK Business Brokers</a>.</span></span></span></span><br />\n<br />\n<span style="color: rgb(29\, 33\, 41)\; font-family: Helvetica\, Arial\, sans-serif\; font-size: 14px\; white-space: pre-wrap\; background-color: rgb(255\, 255\, 255)\;">Tania\, a former accounting assistant\, threw in the corporate life after over 20 years in banking to create the movable food market in the Waikato. Known for being the mastermind behind Gourmet in the Gardens\, Tania is sure to Inspire! </span>
LOCATION:Events room 1\, Gallagher Hub\, Wintec City Campus
UID:e.2751.2742
SEQUENCE:3
DTSTAMP:20260421T151806Z
URL:https://business.waikatochamber.co.nz/events/details/inspire-a-chat-with-tania-simpson-2742
END:VEVENT

END:VCALENDAR
