BEGIN:VCALENDAR
VERSION:2.0
PRODID:-//ChamberMaster//Event Calendar 2.0//EN
METHOD:PUBLISH
X-PUBLISHED-TTL:P3D
REFRESH-INTERVAL:P3D
CALSCALE:GREGORIAN
BEGIN:VEVENT
DTSTART:20190604T183000Z
DTEND:20190604T200000Z
X-MICROSOFT-CDO-ALLDAYEVENT:FALSE
SUMMARY:Inspire: A chat with Senga Allen
DESCRIPTION:Join us for another Inspire. This month we'll be chatting to Senga Allen. Read her bio below!\n\n\n\n"I am the Founder and Managing Director of Everest Group which was formed in 2006.   I have worked in the people and culture industry for over 25 years.  Having worked both in many private and public sector organisations in New Zealand I enjoy using my expertise to lift capability in businesses.  Everest has offices in Hamilton and Tauranga and currently employs 13 awesome people!\n\n \n\nMy career pathway has included training\, consultancy\, management and senior executive roles in human resources. I am a professional member of HRINZ\, Deputy Chair of the Waikato Chamber of Commerce\, trustee of the Graeme Dingle Foundation\, and a member of the Institute of Directors and RCSA. I hold qualifications in psychometric profiling\, emotional intelligence and business management."
X-ALT-DESC;FMTTYPE=text/html:Join us for another Inspire. This month we&#39\;ll be chatting to Senga Allen. Read her bio below!<br />\n<br />\n&quot\;I am the Founder and Managing Director of Everest Group which was formed in 2006.&nbsp\; &nbsp\;I have worked in the people and culture industry for over 25 years. &nbsp\;Having worked both in many private and public sector organisations in New Zealand I enjoy using my expertise to lift capability in businesses.&nbsp\; Everest has offices in Hamilton and Tauranga and currently employs 13 awesome people!<br />\n&nbsp\;<br />\nMy career pathway has included training\, consultancy\, management and senior executive roles in human resources. I am a professional member of HRINZ\, Deputy Chair of the Waikato Chamber of Commerce\, trustee of the Graeme Dingle Foundation\, and a member of the Institute of Directors and RCSA. I hold qualifications in psychometric profiling\, emotional intelligence and business management.&quot\;
LOCATION:Cafe Agora Kent Street\, Frankton
UID:e.2751.2647
SEQUENCE:3
DTSTAMP:20260422T120839Z
URL:https://business.waikatochamber.co.nz/events/details/inspire-a-chat-with-senga-allen-2647
END:VEVENT

END:VCALENDAR
