BEGIN:VCALENDAR
VERSION:2.0
PRODID:-//ChamberMaster//Event Calendar 2.0//EN
METHOD:PUBLISH
X-PUBLISHED-TTL:P3D
REFRESH-INTERVAL:P3D
CALSCALE:GREGORIAN
BEGIN:VEVENT
DTSTART:20200804T184500Z
DTEND:20200804T200000Z
X-MICROSOFT-CDO-ALLDAYEVENT:FALSE
SUMMARY:Inspire: A chat with Sacha Coburn
DESCRIPTION:Inspire: A chat with Sacha Coburn\n\n\n\nJoin us for the August Inspire event of 2020. The first Wednesday of every month\, Inspire brings a new inspirational speaker to share their story and connect like-minded people.\n\nInspire events are sponsored by LINK Business Brokers.\n\n\n\nSacha Coburn is a Waikato based leadership consultant who combines her love of coaching other leaders to leadership mastery with active involvement in her own family-held company\, Coffee Culture.\n\n \n\nSacha has also worked closely for over 20 years with the Les Mills International group\, coaching and developing teams all over the world. Her obsession with unlocking the latent potential within everyone has transformed the way thousands of people turn up to work. Sacha's side-hustle with Tonia Cawood\, The Company You Keep\, offers two day immersive programmes that accelerate leadership development and growth as well as bespoke executive coaching. Working with senior and emerging leaders\, the focus is on getting right to the heart of what matters most for high performance. \n\n \n\nCoffee Culture is a New Zealand group of boutique coffee shops with 300 staff in 20 locations. Sacha is the C.O.O and walks her talk every day delivering messages that matter\, and leading her team with humanity and humour. A former lawyer with a Masters Degree in Education\, Sacha is uniquely qualified to talk about the challenges of leading from the inside-out. \n\n \n\nA recent recipient of a Prime Minister's Business Scholarship\, Sacha is currently enrolled at Harvard Business School and is passionate about sharing what's she's learnt.
X-ALT-DESC;FMTTYPE=text/html:<span style="font-size:14px\;">Inspire: A chat with Sacha Coburn</span><br />\n<br />\n<span style="font-size:12px\;"><span style="font-family:arial\;"><span style="color:#000000\;"><span style="font-size:14px\;">Join us for the August Inspire event of 2020. The first Wednesday of every month\, Inspire brings a new inspirational speaker to share their story and connect like-minded people.<br />\nInspire events are sponsored by <a href="https://linkbusiness.co.nz/">LINK Business Brokers</a>.</span></span></span></span><br />\n<br />\n<span style="color:black\;"><span style="font-family:arial\,sans-serif\;">Sacha Coburn is a Waikato based leadership consultant who combines her love of coaching other leaders to leadership mastery with active involvement in her own family-held company\, Coffee Culture.</span></span><br />\n&nbsp\;<br />\n<span style="color:black\;"><span style="font-family:arial\,sans-serif\;">Sacha has also worked closely for over 20 years with the Les Mills International group\, coaching and developing teams all over the world. Her obsession with unlocking the latent potential within everyone has transformed the way thousands of people turn up to work. Sacha&rsquo\;s side-hustle with Tonia Cawood\, The Company You Keep\, offers two day immersive programmes that accelerate leadership development and growth as well as bespoke executive coaching. Working with senior and emerging leaders\, the focus is on getting right to the heart of what matters most for high performance. </span></span><br />\n&nbsp\;<br />\n<span style="color:black\;"><span style="font-family:arial\,sans-serif\;">Coffee Culture is a New Zealand group of boutique coffee shops with 300 staff in 20 locations. Sacha is the C.O.O and walks her talk every day delivering messages that matter\, and leading her team with humanity and humour. A former lawyer with a Masters Degree in Education\, Sacha is uniquely qualified to talk about the challenges of leading from the inside-out. </span></span><br />\n&nbsp\;<br />\n<span style="color:black\;"><span style="font-family:arial\,sans-serif\;">A recent recipient of a Prime Minister&rsquo\;s Business Scholarship\, Sacha is currently enrolled at Harvard Business School and is passionate about sharing what&rsquo\;s she&rsquo\;s learnt.</span></span><br />\n&nbsp\;
LOCATION:Events room 1\, Gallagher Hub\, Wintec City Campus
UID:e.2751.2749
SEQUENCE:3
DTSTAMP:20260421T132324Z
URL:https://business.waikatochamber.co.nz/events/details/inspire-a-chat-with-sacha-coburn-2749
END:VEVENT

END:VCALENDAR
