BEGIN:VCALENDAR
VERSION:2.0
PRODID:-//ChamberMaster//Event Calendar 2.0//EN
METHOD:PUBLISH
X-PUBLISHED-TTL:P3D
REFRESH-INTERVAL:P3D
CALSCALE:GREGORIAN
BEGIN:VEVENT
DTSTART:20210202T174500Z
DTEND:20210202T190000Z
X-MICROSOFT-CDO-ALLDAYEVENT:FALSE
SUMMARY:Inspire: A Chat with Ryan Hamilton
DESCRIPTION:Join us for the first Inspire event of 2021 - Kicking off this year we have Inspire founder Ryan Hamilton taking us through a live interactive mini workshop that will give you a dynamic tool you can take away and get immediate benefit and clarity for your year ahead.  Its time management\, goal setting and self-analysis all in one taught in a jam-packed 45 minutes.  You will create an easy to follow plan that will ensure you make progress and success in all areas of your life. Success on your terms.\n\n\n\nThe first Wednesday of every month\, Inspire brings a new inspirational speaker to share their story and connect like-minded people.\n\nInspire events are sponsored by LINK Business Brokers.\n\n\n\nRyan founded the Inspire group 14 years ago and has engaged with over one thousand local busines owners and executives since its beginning focussing on challenging customer service mindsets\, human psychology and entrepreneurship.  With his wife Marie they run 4 businesses across the exterior cleaning and pest control industry\, franchising\, giftware and floristry both online and bricks and mortar.  He is a Hamilton City Councillor and Chair of the Economic Development Committee and Deputy Chair of the Strategic Growth Committee.  He also Chairs the Hamilton Christian Night Shelter Trust and has been a Trustee since 2016.  Last year he became a Chartered Member of the Institute of Directors\, was a judge for Waikato Chamber of Commerce Business Excellence Awards and served on Soda's 'Dragons Den.' His greatest challenge is his three teenagers.
X-ALT-DESC;FMTTYPE=text/html:<br />\nJoin us for the first Inspire event of 2021 - Kicking off this year we have Inspire founder Ryan Hamilton taking us through a live interactive mini workshop that will give you a dynamic tool you can take away and get immediate benefit and clarity for your year ahead.&nbsp\; Its time management\, goal setting and self-analysis all in one taught in a jam-packed 45 minutes.&nbsp\; You will create an easy to follow plan that will ensure you make progress and success in all areas of your life. Success on your terms.<br />\n<br />\nThe first Wednesday of every month\, Inspire brings a new inspirational speaker to share their story and connect like-minded people.<br />\nInspire events are sponsored by<a href="https://linkbusiness.co.nz/?keyword=link%20business%20brokers&amp\;gclid=Cj0KCQjw6575BRCQARIsAMp-ksNYAPSpTbRkI3WT0g48HV0ajRNiRcU69zPVdE9HvrhurXSxGChwMDwaAqvVEALw_wcB"> LINK Business Brokers.</a><br />\n<br />\nRyan founded the Inspire group 14 years ago and has engaged with over one thousand local busines owners and executives since its beginning focussing on challenging customer service mindsets\, human psychology and entrepreneurship.&nbsp\; With his wife Marie they run 4 businesses across the exterior cleaning and pest control industry\, franchising\, giftware and floristry both online and bricks and mortar.&nbsp\; He is a Hamilton City Councillor and Chair of the Economic Development Committee and Deputy Chair of the Strategic Growth Committee.&nbsp\; He also Chairs the Hamilton Christian Night Shelter Trust and has been a Trustee since 2016.&nbsp\; Last year he became a Chartered Member of the Institute of Directors\, was a judge for Waikato Chamber of Commerce Business Excellence Awards and served on Soda&rsquo\;s &lsquo\;Dragons Den.&rsquo\; His greatest challenge is his three teenagers.&nbsp\;<br />\n<br />\n<br />\n&nbsp\;
LOCATION:The Long Room\, Wintec City Campus
UID:e.2751.2787
SEQUENCE:3
DTSTAMP:20260421T132200Z
URL:https://business.waikatochamber.co.nz/events/details/inspire-a-chat-with-ryan-hamilton-2787
END:VEVENT

END:VCALENDAR
