BEGIN:VCALENDAR
VERSION:2.0
PRODID:-//ChamberMaster//Event Calendar 2.0//EN
METHOD:PUBLISH
X-PUBLISHED-TTL:P3D
REFRESH-INTERVAL:P3D
CALSCALE:GREGORIAN
BEGIN:VEVENT
DTSTART:20200901T184500Z
DTEND:20200901T200000Z
X-MICROSOFT-CDO-ALLDAYEVENT:FALSE
SUMMARY:Inspire: A Chat with Russell Alexander
DESCRIPTION:Join us for the September Inspire event of 2020. The first Wednesday of every month\, Inspire brings a new inspirational speaker to share their story and connect like-minded people.\n\nInspire events are sponsored by LINK Business Brokers.\n\n\n\n\n\nRussell Alexander\n\nRussell was born in 1968 in the Taranaki region. In 1978 the Alexander family moved to Buckland Road in Matamata\, which is home to the 1250 acre sheep and beef farm they still manage today.\n\n \n\nRussell is a keen sportsman and passionate supporter of sports in the Matamata-Piako District. In his hay day\, he played representative Cricket & Rugby including being part of the NZ youth team and played over 100 games at what is now FMG Stadium Waikato. Russell took out the Junior Grade at the NZ Shearing Championships in 1986 and used sheep shearing to get through his study at University of Waikato where he completed his Bachelor of Management Studies (BMS). He went on to open and run a successful accounting practice in Matamata.\n\n \n\nToday\, Russell is the Founder and CEO of Hobbiton Movie Set\, NZ's world-famous tourism attraction which first began operations in 2002. The extraordinary development and growth of Hobbiton Movie Set\, on the back of the movies\, has led to it becoming one of the biggest international tourism attractions and a must see activity in New Zealand.
X-ALT-DESC;FMTTYPE=text/html:Join us for the September Inspire event of 2020. The first Wednesday of every month\, Inspire brings a new inspirational speaker to share their story and connect like-minded people.<br />\nInspire events are sponsored by<a href="https://linkbusiness.co.nz/?keyword=link%20business%20brokers&amp\;gclid=Cj0KCQjw6575BRCQARIsAMp-ksNYAPSpTbRkI3WT0g48HV0ajRNiRcU69zPVdE9HvrhurXSxGChwMDwaAqvVEALw_wcB"> LINK Business Brokers.</a><br />\n<br />\n<br />\nRussell Alexander<br />\nRussell was born in 1968 in the Taranaki region. In 1978 the Alexander family moved to Buckland Road in Matamata\, which is home to the 1250 acre sheep and beef farm they still manage today.<br />\n&nbsp\;<br />\nRussell is a keen sportsman and passionate supporter of sports in the Matamata-Piako District. In his hay day\, he played representative Cricket &amp\; Rugby including being part of the NZ youth team and played over 100 games at what is now FMG Stadium Waikato. Russell took out the Junior Grade at the NZ Shearing Championships in 1986 and used sheep shearing to get through his study at University of Waikato where he completed his Bachelor of Management Studies (BMS). He went on to open and run a successful accounting practice in Matamata.<br />\n&nbsp\;<br />\n<span style="font-family:arial\;"><span style="font-size:14px\;">Today\, Russell is the Founder and CEO of Hobbiton Movie Set\, NZ&rsquo\;s world-famous tourism attraction which first began operations in 2002. The extraordinary development and growth of Hobbiton Movie Set\, on the back of the movies\, has led to it becoming one of the biggest international tourism attractions and a must see activity in New Zealand.</span></span>
LOCATION:Events room 1\, Gallagher Hub\, Wintec City Campus
UID:e.2751.2757
SEQUENCE:3
DTSTAMP:20260421T132344Z
URL:https://business.waikatochamber.co.nz/events/details/inspire-a-chat-with-russell-alexander-2757
END:VEVENT

END:VCALENDAR
