BEGIN:VCALENDAR
VERSION:2.0
PRODID:-//ChamberMaster//Event Calendar 2.0//EN
METHOD:PUBLISH
X-PUBLISHED-TTL:P3D
REFRESH-INTERVAL:P3D
CALSCALE:GREGORIAN
BEGIN:VEVENT
DTSTART:20180403T183000Z
DTEND:20180403T200000Z
X-MICROSOFT-CDO-ALLDAYEVENT:FALSE
SUMMARY:Inspire: A chat with Matt Stark
DESCRIPTION:There are 3 types of people in this world...\n\n	The people who make things happen\n	The people who watch things happen\n	The people who ask what happened\n\n\n\nWhich one are you? If you said number one\, then come and join us as we talk with the man who the two's and three's are watching and asking about!\n\n\n\nMatt Stark is on a mission to make Hamilton great! He describes himself as a Passionate Hamiltonian. Come join us\, as we chat with him\, over a FREE coffee and a FREE breakfast @ Ventura Inns and Suites.\n\n\n\n*Only 50 seats available \n\n*Only registered attendees will be entitled to the complimentary breakfast and coffee. (Catering purposes)
X-ALT-DESC;FMTTYPE=text/html:There are 3 types of people in this world...\n<ol>\n	<li>The people who make things happen</li>\n	<li>The people who watch things happen</li>\n	<li>The people who ask what happened</li>\n</ol>\n<br />\nWhich one are you? If you said number one\, then come and join us as we talk with the man who the two&#39\;s and three&#39\;s are watching and asking about!<br />\n<br />\nMatt Stark is on a mission to make Hamilton great! He describes himself as a <strong>Passionate Hamiltonian</strong>. Come join us\, as we chat with him\, over a FREE coffee and a FREE breakfast @ Ventura Inns and Suites.<br />\n<br />\n*Only 50 seats available&nbsp\;<br />\n*Only registered attendees will be entitled to the complimentary&nbsp\;breakfast and coffee. (Catering purposes)
LOCATION:Ventura Inns & Suites 23 Clarence Street\, Hamilton
UID:e.2751.2264
SEQUENCE:3
DTSTAMP:20260423T092821Z
URL:https://business.waikatochamber.co.nz/events/details/inspire-a-chat-with-matt-stark-2264
END:VEVENT

END:VCALENDAR
