BEGIN:VCALENDAR
VERSION:2.0
PRODID:-//ChamberMaster//Event Calendar 2.0//EN
METHOD:PUBLISH
X-PUBLISHED-TTL:P3D
REFRESH-INTERVAL:P3D
CALSCALE:GREGORIAN
BEGIN:VEVENT
DTSTART:20220906T184500Z
DTEND:20220906T200000Z
X-MICROSOFT-CDO-ALLDAYEVENT:FALSE
SUMMARY:Inspire - a chat with Ian Foster\, Head Coach of the All Blacks
DESCRIPTION:Join Ryan for the September Inspire Event   a chat with Ian Foster All Blacks Head Coach.   Ian will share his career highlights\, his preferred leadership style and how this resulted in getting the best out of his team. \n\n\n\nIan Foster is the head coach of the All Blacks and a former rugby union player. During his playing career he made 148 appearances for Waikato\, a union record. He also played 28 games for the Chiefs. Foster later went on to become Head Coach of Waikato\, later signing to Coach the Chiefs.\n\n\n\nPlease note:  Speakers will begin their presentation at 7am.
X-ALT-DESC;FMTTYPE=text/html:<span style="font-size:14px\;"><span style="font-family:arial\;">Join Ryan for the September Inspire Event &ndash\; a chat with Ian Foster All Blacks Head Coach.&nbsp\;&nbsp\; Ian will share his career highlights\, his preferred leadership style and how this resulted in getting the best out of his team.&nbsp\;<br />\n<br />\nIan Foster is the head coach of the All Blacks and a former rugby union player. During his playing career he made 148 appearances for Waikato\, a union record. He also played 28 games for the Chiefs. Foster later went on to become Head Coach of Waikato\, later signing to Coach the Chiefs.</span></span><br />\n<br />\n<span style="font-size:14px\;">Please note:&nbsp\; Speakers will begin their presentation at 7am.&nbsp\;&nbsp\;</span>
LOCATION:Event Room 1\, Gallagher Hub\, Wintec. This event will be seated\, masks are encouraged. Please note: All Inspire sessions going forward will be held in person. A recording will be sent post event.
UID:e.2751.3877
SEQUENCE:3
DTSTAMP:20260425T180512Z
URL:https://business.waikatochamber.co.nz/events/details/inspire-a-chat-with-ian-foster-head-coach-of-the-all-blacks-3877
END:VEVENT

END:VCALENDAR
