BEGIN:VCALENDAR
VERSION:2.0
PRODID:-//ChamberMaster//Event Calendar 2.0//EN
METHOD:PUBLISH
X-PUBLISHED-TTL:P3D
REFRESH-INTERVAL:P3D
CALSCALE:GREGORIAN
BEGIN:VEVENT
DTSTART:20180605T183000Z
DTEND:20180605T200000Z
X-MICROSOFT-CDO-ALLDAYEVENT:FALSE
SUMMARY:Inspire: A chat with Harry Mowbray
DESCRIPTION:REGISTRATIONS FOR THIS EVENT HAVE CLOSED \n\n\n\nJoin us for the next Inspire... We'll be having a chat with Harry Mowbray. \n\n\n\nHarry a serial entrepreneur. One of Harry's big projects was the re-development of the Matangi Dairy Factory. It is a historic building\, with two of NZ's most famous companies coming out of it\; Glaxo (a predecessor of GlaxoSmithKline) and the New Zealand Dairy Association (which eventually lead to the formation of Fonterra). It is now home to a number of businesses including Laslo Boats\, AWOP\, Black Dog Furniture and Zorp.\n\n\n\nHarry's children are currently in China\, working on and running Zuru Toys\, who shocked the world after the launch of a "Bunch O Balloons!" and other cutting-edge consumer goods. They've also recently purchased the Coatesville Mansion (formerly known as the DotCom Mansion). He has a son and daughter in-law running one of his other businesses here in the Waikato\, AWOP a leading event/payment technology company.\n\n\n\nHarry has a huge property investment profile and again has either founded\, saved and grown a portfolio of businesses. Harry and his wife Linda currently reside in Matangi.
X-ALT-DESC;FMTTYPE=text/html:<strong>REGISTRATIONS FOR THIS EVENT HAVE CLOSED&nbsp\;</strong><br />\n<br />\nJoin us for the next Inspire... We&#39\;ll be having a chat with <strong>Harry Mowbray</strong>.&nbsp\;<br />\n<br />\nHarry a serial entrepreneur. One of Harry&#39\;s big projects was the re-development of the Matangi Dairy Factory. It is a historic building\, with two of NZ&#39\;s most famous companies coming out of it\; Glaxo (a predecessor of GlaxoSmithKline) and the New Zealand Dairy Association (which eventually lead to the formation of Fonterra). It is now home to a number of businesses including Laslo Boats\, AWOP\, Black Dog Furniture and Zorp.<br />\n<br />\nHarry&#39\;s children are currently&nbsp\;in China\, working on and running Zuru&nbsp\;Toys\,&nbsp\;who shocked the world after the launch of a &ldquo\;Bunch O Balloons!&rdquo\; and other cutting-edge consumer goods.&nbsp\;They&#39\;ve also recently purchased the Coatesville Mansion (formerly known as the DotCom&nbsp\;Mansion). He has a&nbsp\;son and daughter in-law running one of his other businesses here in the Waikato\, AWOP a leading event/payment technology company.<br />\n<br />\nHarry has a huge property investment profile and again has either founded\, saved and grown a portfolio of businesses. Harry and his wife Linda currently reside in Matangi.<br />\n&nbsp\;
LOCATION:Ventura Inns and Suites Clarence Street
UID:e.2751.2305
SEQUENCE:3
DTSTAMP:20260423T064135Z
URL:https://business.waikatochamber.co.nz/events/details/inspire-a-chat-with-harry-mowbray-2305
END:VEVENT

END:VCALENDAR
