BEGIN:VCALENDAR
VERSION:2.0
PRODID:-//ChamberMaster//Event Calendar 2.0//EN
METHOD:PUBLISH
X-PUBLISHED-TTL:P3D
REFRESH-INTERVAL:P3D
CALSCALE:GREGORIAN
BEGIN:VEVENT
DTSTART:20220802T184500Z
DTEND:20220802T200000Z
X-MICROSOFT-CDO-ALLDAYEVENT:FALSE
SUMMARY:Inspire - a chat with Ezra Hirawani\, Founder of Nau Mai Ra
DESCRIPTION:Join Ryan for the August Inspire Event   a chat with Ezra Hirawani. Ezra will share his inspiring journey from working at the Waikato Chamber of Commerce to starting his own power company!  \n\n\n\nEzra is the current Young New Zealander of the Year and is the co-founder of Nau Mai R  - an electricity company with a difference and pitched as Aotearoa's first kaupapa M ori energy retailer.\n\n\n\nPlease note:  Speakers will begin their presentation at 7am.
X-ALT-DESC;FMTTYPE=text/html:<span style="font-size:14px\;"><span style="font-family:arial\;"><span style="background:white\;"><span style="color:black\;">Join Ryan for the August Inspire Event &ndash\; a chat with&nbsp\;</span></span><span style="background:white\;"><span style="color:black\;">Ezra Hirawani. Ezra will share his inspiring journey from working at the Waikato Chamber of Commerce to starting his own power company!&nbsp\; </span></span><br />\n<br />\n<span style="background:white\;"><span style="color:black\;">Ezra is the current Young New Zealander of the Year and is the co-founder of&nbsp\;</span></span><a href="https://www.naumaira.nz/" style="font-variant-ligatures:normal\;font-variant-caps:normal\;orphans:2\;text-align:start\;widows:2\;-webkit-text-stroke-width:0px\;word-spacing:0px\;" target="_blank"><span style="background:white\;text-decoration:none\;text-underline:none\;"><span style="color:#38A3D7\;">Nau Mai R&#257\;</span></span></a><span style="background:white\;"><span style="color:black\;"><span style="font-variant-ligatures:normal\;font-variant-caps:normal\;orphans:2\;text-align:start\;widows:2\;-webkit-text-stroke-width:0px\;text-decoration-thickness:initial\;text-decoration-style:initial\;float:none\;word-spacing:0px\;">&nbsp\;- an electricity company with a difference and pitched as Aotearoa&#39\;s first kaupapa M&#257\;ori energy retailer.</span></span></span><br />\n<br />\nPlease note:&nbsp\; Speakers will begin their presentation at 7am.&nbsp\;&nbsp\;</span></span>
LOCATION:Events Room 1\, Gallagher Hub\, Wintec. This event will be seated\, masks are encouraged. Please note: All Inspire sessions going forward will be held in person. A recording will be sent post event.
UID:e.2751.3919
SEQUENCE:3
DTSTAMP:20260425T134815Z
URL:https://business.waikatochamber.co.nz/events/details/inspire-a-chat-with-ezra-hirawani-founder-of-nau-mai-ra-3919
END:VEVENT

END:VCALENDAR
