BEGIN:VCALENDAR
VERSION:2.0
PRODID:-//ChamberMaster//Event Calendar 2.0//EN
METHOD:PUBLISH
X-PUBLISHED-TTL:P3D
REFRESH-INTERVAL:P3D
CALSCALE:GREGORIAN
BEGIN:VEVENT
DTSTART:20210601T184500Z
DTEND:20210601T200000Z
X-MICROSOFT-CDO-ALLDAYEVENT:FALSE
SUMMARY:Inspire: A Chat with Dr Matthew Phillips
DESCRIPTION:Join us for the June Inspire event of 2021 - A Chat with Dr Matthew Phillips\, FRACP. \n\n\n\nThe first Wednesday of every month\, Inspire brings a new inspirational speaker to share their story and connect like-minded people.\n\nInspire events are sponsored by LINK Business Brokers.\n\n\n\nMatt is a full-time clinical and research neurologist at Waikato Hospital\, Hamilton\, New Zealand. His foremost passion is to explore the potential feasibility\, safety\, and efficacy of metabolic strategies\, particularly fasting and ketogenic diets\, in creating alternate metabolic states that may improve not only the symptoms\, but also function and quality of life\, for people with a variety of difficult disorders.
X-ALT-DESC;FMTTYPE=text/html:<br style="font-size: 16px\;" />\n<span style="font-size: 16px\;">Join us for the June Inspire event of 2021 - A Chat with Dr Matthew Phillips\, FRACP.&nbsp\;</span><br style="font-size: 16px\;" />\n<br style="font-size: 16px\;" />\n<span style="font-size: 16px\;">The first Wednesday of every month\, Inspire brings a new inspirational speaker to share their story and connect like-minded people.</span><br style="font-size: 16px\;" />\n<span style="font-size: 16px\;">Inspire events are sponsored by</span><a href="https://linkbusiness.co.nz/?keyword=link%20business%20brokers&amp\;gclid=Cj0KCQjw6575BRCQARIsAMp-ksNYAPSpTbRkI3WT0g48HV0ajRNiRcU69zPVdE9HvrhurXSxGChwMDwaAqvVEALw_wcB" style="font-size: 16px\;">&nbsp\;LINK Business Brokers.</a><br />\n<br />\n<span style="font-size: 16px\;">Matt is a full-time clinical and research neurologist at Waikato Hospital\, Hamilton\, New Zealand. His foremost passion is to explore the potential feasibility\, safety\, and efficacy of metabolic strategies\, particularly fasting and ketogenic diets\, in creating alternate metabolic states that may improve not only the symptoms\, but also function and quality of life\, for people with a variety of difficult disorders.</span>
LOCATION:The Long Room\, Wintec
UID:e.2751.2801
SEQUENCE:3
DTSTAMP:20260426T041106Z
URL:https://business.waikatochamber.co.nz/events/details/inspire-a-chat-with-dr-matthew-phillips-2801
END:VEVENT

END:VCALENDAR
