BEGIN:VCALENDAR
VERSION:2.0
PRODID:-//ChamberMaster//Event Calendar 2.0//EN
METHOD:PUBLISH
X-PUBLISHED-TTL:P3D
REFRESH-INTERVAL:P3D
CALSCALE:GREGORIAN
BEGIN:VEVENT
DTSTART:20220517T184500Z
DTEND:20220517T200000Z
X-MICROSOFT-CDO-ALLDAYEVENT:FALSE
SUMMARY:Inspire - a chat with Chris Joblin\, CEO of Tainui Group Holdings - NEW DATE - 18th May
DESCRIPTION:UPDATE #2 -  Covid is still impacting on our key resources and in the interest of everyone's health and safety we have postponed to Wednesday 18th May.   Our sincere apologies!   \n\n\n\nJoin us for the May Inspire - a chat with Chris Joblin.  Chris\, CEO of Tainui Group Holdings will join Ryan Hamilton to share the achievements\, current developments\, and opportunities that TGH has provided to the Waikato community.   An interactive Q&A session will also be held. \n\n \n\nChris Joblin has been CEO since mid-2015\, after first joining TGH in 2009. The focus of his role is to 'grow the assets\, to grow the people'\, which is reflected in a diversified $1.2b portfolio of investments to build intergenerational wealth for the 76\,000 members of Waikato-Tainui.  Investments span commercial\, residential and retail property\, hotels\, infrastructure\, global equities\, direct investment\, farms\, forestry and fisheries. A current signature project is Ruakura Superhub\, TGH's 480 hectare inland port and mixed use development in Hamilton East.  Chris is a member of the NZ Institute of Accountants (CA) and the Institute of Finance Professionals NZ (INFINZ   CTP). His passion for big picture thinking to support the success of the iwi and Waikato region was recognised with the 2021 CEO of the Year Award in the Waikato Chamber of Commerce Business Awards supported by Foster Construction Group.
X-ALT-DESC;FMTTYPE=text/html:<span style="font-size:14px\;"><span style="font-family:arial\;">UPDATE #2 -&nbsp\; Covid is still impacting on our key resources and in the interest of everyone&#39\;s health and safety we have postponed to Wednesday 18th May.&nbsp\; &nbsp\;Our sincere apologies!&nbsp\; &nbsp\;<br />\n<br />\nJoin us for the May Inspire - a chat with Chris Joblin.&nbsp\; Chris\, CEO of Tainui Group Holdings will join Ryan Hamilton to share the achievements\, current developments\, and opportunities that TGH has provided to the Waikato community.&nbsp\;&nbsp\; An interactive Q&amp\;A session will also be held.&nbsp\;<br />\n&nbsp\;<br />\nChris Joblin has been CEO since mid-2015\, after first joining TGH in 2009. The focus of his role is to &#39\;grow the assets\, to grow the people&#39\;\, which is reflected in a diversified $1.2b portfolio of investments to build intergenerational wealth for the 76\,000 members of Waikato-Tainui.&nbsp\; Investments span commercial\, residential and retail property\, hotels\, infrastructure\, global equities\, direct investment\, farms\, forestry and fisheries. A current signature project is Ruakura Superhub\, TGH&rsquo\;s 480 hectare inland port and mixed use development in Hamilton East. &nbsp\;Chris is a member of the NZ Institute of Accountants (CA) and the Institute of Finance Professionals NZ (INFINZ &ndash\; CTP). His passion for big picture thinking to support the success of the iwi and Waikato region was recognised with the 2021 CEO of the Year Award in the Waikato Chamber of Commerce Business Awards supported by Foster Construction Group.</span></span>
LOCATION:Event Room 1\, Gallagher Hub\, Wintec. This event will be seated\, masks are encouraged. Or join Ryan and Chris via Zoom. Please register to attend and the link will be sent to you. Please note: Speakers will begin their presentation at 7am.
UID:e.2751.3632
SEQUENCE:3
DTSTAMP:20260419T173537Z
URL:https://business.waikatochamber.co.nz/events/details/inspire-a-chat-with-chris-joblin-ceo-of-tainui-group-holdings-new-date-18th-may-3632
END:VEVENT

END:VCALENDAR
