BEGIN:VCALENDAR
VERSION:2.0
PRODID:-//ChamberMaster//Event Calendar 2.0//EN
METHOD:PUBLISH
X-PUBLISHED-TTL:P3D
REFRESH-INTERVAL:P3D
CALSCALE:GREGORIAN
BEGIN:VEVENT
DTSTART:20200505T200000Z
DTEND:20200505T210000Z
X-MICROSOFT-CDO-ALLDAYEVENT:FALSE
SUMMARY:Inspire: A chat with Aaron Toresen
DESCRIPTION:Join us for the first online Inspire... We'll be having a chat with Aaron Toresen. \n\n\n\nWith extensive international experience gained over 20 years in some of the world?s largest and most successful commercial Real Estate companies (including roles as CEO for both Knight Frank and LJ Hooker Commercial)\, Aaron has developed into an award-winning entrepreneur and company investor.\n\nSince 2005\, Aaron has played the lead role in driving the growth of LINK and has turned what was once a boutique NZ business brokerage into an international franchise\, with over 300 brokers in five countries in less than 10 years. A proven board executive and manager he has extensive experience in frontline leadership of sales\, marketing\, customer success\, professional services\, customer services and finance teams. He has been a franchisee\, franchisor and salesperson\, providing an unparalleled understanding of the needs of both businesses and clients\, from the ground up. He is deeply passionate about LINK and the culture of integrity that he has built\, but has always maintained a keen focus on results.
X-ALT-DESC;FMTTYPE=text/html:<span style="font-size:12px\;"><span style="font-family:arial\;">Join us for the first&nbsp\;<strong>online</strong> Inspire... We'll be having a chat with <strong>Aaron Toresen</strong>.&nbsp\;<br>\n<br>\nWith extensive international experience gained over 20 years&nbsp\;in some of the world?s largest and most successful commercial Real&nbsp\;Estate companies (including roles as CEO for both Knight Frank&nbsp\;and LJ Hooker Commercial)\,&nbsp\;Aaron has developed into an&nbsp\;award-winning entrepreneur and company investor.<br>\nSince 2005\,&nbsp\;Aaron has played the lead role&nbsp\;in driving the growth of LINK&nbsp\;and has turned what was once a&nbsp\;boutique NZ business brokerage&nbsp\;into an international franchise\, with&nbsp\;over 300 brokers in five countries&nbsp\;in less than 10 years. A proven&nbsp\;board executive and manager&nbsp\;he has extensive experience in&nbsp\;frontline leadership of sales\,&nbsp\;marketing\, customer success\, professional services\, customer&nbsp\;services and finance teams. He&nbsp\;has been a franchisee\, franchisor&nbsp\;and salesperson\, providing an&nbsp\;unparalleled understanding of&nbsp\;the needs of both businesses and&nbsp\;clients\, from the ground up. He is deeply passionate about LINK and&nbsp\;the culture of integrity that&nbsp\;he has&nbsp\;built\, but has always maintained a&nbsp\;keen focus on results.</span></span><br>\n&nbsp\;
LOCATION:The link to join this online event will be included in the confirmation email you receive once registered.
UID:e.2751.2718
SEQUENCE:3
DTSTAMP:20260421T183423Z
URL:https://business.waikatochamber.co.nz/events/details/inspire-a-chat-with-aaron-toresen-2718
END:VEVENT

END:VCALENDAR
