BEGIN:VCALENDAR
VERSION:2.0
PRODID:-//ChamberMaster//Event Calendar 2.0//EN
METHOD:PUBLISH
X-PUBLISHED-TTL:P3D
REFRESH-INTERVAL:P3D
CALSCALE:GREGORIAN
BEGIN:VEVENT
DTSTART:20220706T043000Z
DTEND:20220706T054500Z
X-MICROSOFT-CDO-ALLDAYEVENT:FALSE
SUMMARY:Inspire - a chat (and tasters) with Simon Graafhuis\, Owner of Bootleg Brewery
DESCRIPTION:Join us for the July Inspire - a chat with Simon Graafhuis\, Owner of Bootleg Brewery.  Craft beer samples will be provided complimentary.  Please note: You must be 18 years plus to participate in the samples.   \n\n \nBootleg Brewery has been in action since 2017 and put roots down at the historic Matangi Dairy Factory site in 2020  where fresh beer flows into the hands of patrons at its popular taproom set amongst a steadily growing brew facility. A 'Champion Ale' medal win (NZ's most acclaimed) at the Brewer's Guild awards for their Apehanger IPA put Bootleg on the craft beer map and a growing list of accolades ever since has seen them rise to one of the country's highest rated craft breweries. \n\nBootleg focuses on brewing top shelf beer\; flavourful IPA's\, approachable Belgian style ales and satisfying stouts and porters. The beers are found nationwide with 440ml cans in grocery and liquor store channels and limited edition bottling from the Matangi Small Batch Series finding their way into the nation's best craft beer outlets\, bars and restaurants. Proud to be locally-owned and fiercely independent\, Bootleg Brewery takes inspiration from the prohibition period and encourages you join them and "Outrun Ordinary Beer". www.bootlegbrewery.co.nz \n\nhttps://www.bootlegbrewery.co.nz/shop\n\n\n\n\nPlease note:  Speakers will begin their presentation at 4.45pm.
X-ALT-DESC;FMTTYPE=text/html:<span style="font-size:14px\;"><span style="font-family:arial\;">Join us for the July Inspire - a chat with Simon Graafhuis\, Owner</span></span><span style="font-family:calibri\,sans-serif\;"><span style="font-size:11.0pt\;">&nbsp\;</span></span><span style="font-size:14px\;"><span style="font-family:arial\;">of Bootleg Brewery.&nbsp\; Craft beer samples will be provided complimentary.&nbsp\; Please note: You must be 18 years plus to participate in the samples.&nbsp\; &nbsp\;</span></span><br />\n&nbsp\;\n<p><span style="font-size:14px\;"><span style="font-family:arial\;">Bootleg Brewery has been in action since 2017 and put roots down at the historic Matangi Dairy Factory site in 2020 &nbsp\;where fresh beer flows into the hands of patrons at its popular taproom set amongst a steadily growing brew facility. A &#39\;Champion Ale&#39\; medal win (NZ&#39\;s most acclaimed) at the Brewer&#39\;s Guild awards for their Apehanger IPA put Bootleg on the craft beer map and a growing list of accolades ever since has seen them rise to one of the country&#39\;s&nbsp\;highest rated craft breweries.&nbsp\;</span></span><span style="font-size:10.0pt\;font-family:&quot\;Verdana&quot\;\,sans-serif"><o:p></o:p></span></p>\n\n<p><span style="font-size:14px\;"><span style="font-family:arial\;">Bootleg focuses on brewing top shelf beer\; flavourful IPA&#39\;s\, approachable Belgian style ales and satisfying stouts and porters. The beers are found nationwide with 440ml cans in grocery and liquor store channels and limited edition bottling from the Matangi Small Batch Series finding their way into the nation&#39\;s best craft beer outlets\, bars and restaurants. Proud to be locally-owned and fiercely independent\, Bootleg Brewery takes inspiration from the prohibition period and encourages you join them and &quot\;Outrun Ordinary Beer&quot\;. <a href="http://www.bootlegbrewery.co.nz">www.bootlegbrewery.co.nz</a>&nbsp\;</span></span></p>\n\n<p><span style="font-size:14px\;"><span style="font-family:arial\;"><a href="https://www.bootlegbrewery.co.nz/shop">https://www.bootlegbrewery.co.nz/shop</a></span></span><span style="font-size:10.0pt\;font-family:&quot\;Verdana&quot\;\,sans-serif"><o:p></o:p></span></p>\n\n<p><br />\n<span style="font-size:10.0pt\;font-family:&quot\;Verdana&quot\;\,sans-serif"><o:p></o:p></span></p>\n<span style="font-size:14px\;"><span style="font-family:arial\;">Please note:&nbsp\; Speakers will begin their presentation at 4.45pm.&nbsp\;&nbsp\;</span></span>
LOCATION:Events Room 1\, Gallagher Hub\, Wintec. This event will be seated\, masks are encouraged. Please note: All Inspire sessions going forward will be held in person. A recording will be sent post event.
UID:e.2751.3871
SEQUENCE:3
DTSTAMP:20260425T192556Z
URL:https://business.waikatochamber.co.nz/events/details/inspire-a-chat-and-tasters-with-simon-graafhuis-owner-of-bootleg-brewery-3871
END:VEVENT

END:VCALENDAR
