BEGIN:VCALENDAR
VERSION:2.0
PRODID:-//ChamberMaster//Event Calendar 2.0//EN
METHOD:PUBLISH
X-PUBLISHED-TTL:P3D
REFRESH-INTERVAL:P3D
CALSCALE:GREGORIAN
BEGIN:VEVENT
DTSTART:20210310T213000Z
DTEND:20210310T223000Z
X-MICROSOFT-CDO-ALLDAYEVENT:FALSE
SUMMARY:Information Session: Building High Preforming Teams
DESCRIPTION:The Chamber has partnered with The Effect to offer our members a training course on Leadership\, join this webinar to learn more about this course.\n\nThis webinar will be run by Bridget Jelly\, Director of The Effect and Registered Psychologist and Anthony Gibbs\, CEO of Sentis.\n\n \n\nA bit about this course -The Challenge\n\nThe role of leadership is constantly evolving and in an age of highly competitive and often volatile markets\, leaders are pressed to achieve more with less\, while maintaining a positive workplace culture\, and engage\, inspire and retain great people. Throw in the added complexity of navigating employee generational differences\, increased diversity in the workforce\, the rise of wellbeing and flexible work considerations\, changing work environments\, and the pursuit of disruptive and innovative business models\, and we can appreciate that the modern leader faces an unprecedented challenge. What this means is that today's leaders need to have much more than a strong technical background to be effective.\n\n \n\nSo how do we address this?\n\nWe need to challenge the way we are upskilling our leaders. We need to provide leaders with a new way of thinking which not only sets them up for success when faced with change\, challenge\, or adversity\, but allows them to embrace and drive an effective response to it.
X-ALT-DESC;FMTTYPE=text/html:<br />\n<span style="font-size:14px\;"><span style="font-size:16px\;">The Chamber has partnered with The Effect to offer our members a training course on Leadership\, join this webinar to learn more about this course.<br />\nThis webinar will be run by Bridget Jelly\, Director of The Effect and Registered Psychologist and Anthony Gibbs\, CEO of Sentis.<br />\n&nbsp\;<br />\nA bit about this course -The Challenge<br />\nThe role of leadership is constantly evolving and in an age of highly competitive and often volatile markets\, leaders are pressed to achieve more with less\, while maintaining a positive workplace culture\, and engage\, inspire and retain great people. Throw in the added complexity of navigating employee generational differences\, increased diversity in the workforce\, the rise of wellbeing and flexible work considerations\, changing work environments\, and the pursuit of disruptive and innovative business models\, and we can appreciate that the modern leader faces an unprecedented challenge. What this means is that today&#39\;s leaders need to have much more than a strong technical background to be effective.<br />\n&nbsp\;<br />\nSo how do we address this?<br />\nWe need to challenge the way we are upskilling our leaders. We need to provide leaders with a new way of thinking which not only sets them up for success when faced with change\, challenge\, or adversity\, but allows them to embrace and drive an effective response to it.</span></span><br />\n&nbsp\;
LOCATION:Webinar - link to join will be included in your confirmation email once registered.
UID:e.2751.2792
SEQUENCE:3
DTSTAMP:20260426T001031Z
URL:https://business.waikatochamber.co.nz/events/details/information-session-building-high-preforming-teams-2792
END:VEVENT

END:VCALENDAR
