BEGIN:VCALENDAR
VERSION:2.0
PRODID:-//ChamberMaster//Event Calendar 2.0//EN
METHOD:PUBLISH
X-PUBLISHED-TTL:P3D
REFRESH-INTERVAL:P3D
CALSCALE:GREGORIAN
BEGIN:VEVENT
DTSTART:20170629T210000Z
DTEND:20170629T220000Z
X-MICROSOFT-CDO-ALLDAYEVENT:FALSE
SUMMARY:Hamilton City of Growth\, Opportunity and Innovation
DESCRIPTION:Hamilton Central Business Association and Waikato Chamber of Commerce members are invited to a morning event looking at investment and economic development in Hamilton.
X-ALT-DESC;FMTTYPE=text/html:<h1><span style="font-size:12px\;">Hamilton Central Business Association and Waikato Chamber of Commerce members are invited to a morning event looking at investment and economic development in Hamilton.</span></h1>\n
LOCATION:SKYCITY Hamilton Waikato Room 1. **Please note change of room.
UID:e.2751.60
SEQUENCE:3
DTSTAMP:20260424T034025Z
URL:https://business.waikatochamber.co.nz/events/details/hamilton-city-of-growth-opportunity-and-innovation-60
END:VEVENT

END:VCALENDAR
