BEGIN:VCALENDAR
VERSION:2.0
PRODID:-//ChamberMaster//Event Calendar 2.0//EN
METHOD:PUBLISH
X-PUBLISHED-TTL:P3D
REFRESH-INTERVAL:P3D
CALSCALE:GREGORIAN
BEGIN:VEVENT
DTSTART:20180705T053000Z
DTEND:20180705T073000Z
X-MICROSOFT-CDO-ALLDAYEVENT:FALSE
SUMMARY:Habit 7: "How to Seal A Deal" - Mastering the Art of Sales
DESCRIPTION:Do you want to be the next  Dale Carnegie\, Mary Kay Ash or Grant Cardone?\n\nDo you want to know what it takes to be an effective salesperson?\n\n\n\nThe fact is that everyone is in sales\, no matter the job title. It's how we stay in business. Our business is based on clients\, customers and relationships. The big question is how do we get them? And how do we keep them? Our expert panel\, led by Bob Weir (Pinpoint Business)\, will be taking you through the tips and tricks of sales - from door knocking\, to direct sales and online sales.\n\n \n\n"Everyone is in sales\, it's up to you how good you want to be at it"\n\n \n\n Speakers:\n\nEliot Jessep - BEMA and Game Kings\n\nAt 22\, Eliot has managed two successful e-commerce businesses\, has worked in radio\, sold calendars in shopping malls\, done architectural and stage lighting\, sold real estate\, dabbled in broadcasting\, and given talks to other aspiring young businesspeople. Are you looking to set up a webshop? Eliot understands the fundamentals of online sales\, conversions and creating a sales funnel. He's the e-commerce guru!\n\n\n\nJason Davis - UB Freight\n\nJason has been in sales for 17 years now in that time he has run his own sales company at 21 which he took nationwide to managing the sales and marketing functions for large corporates. He has personally trained over 750 sales people and won the Deloitte fast50 in 2012 as the National Sales Manager of Pulse Energy increasing revenue from $200\,000 to $68\,000\,000 in three years. Now involved in International Freight as the Sales Manager for UB Freight with other varied business interests including Financial Services\, Artisan Clocks and a Wedding venue. Jason is happy to teach the techniques and mindset needed for success in Sales.\n\n\n\nSteve Sartin - International Foods\n\nSteve is no stranger to the sales world. With his Texan accent and people-skills\, Steve knows sales inside and out. He's a big believer in to 10X it rule\, by multiplying what you want by 10 and striving for it. Steve is a Founder and Managing Director of International Foods - NZ's biggest importer and wholesaler of American groceries. Steve travels the country pitching and selling to national distributors and specialty stores.\n\n\n\nThe Habit 7 series\, is powered by Pinpoint Business\, and is based on Stephen Covey's "7 Habits of Highly Effective People". The 7th one being Sharpen the Saw (Continual Improvement). If you are a business owner\, or an individual wanting to improve your skills\, this is the place for you.\n\n\n\nCome along to the workshop and get ready to sharpen your saw!
X-ALT-DESC;FMTTYPE=text/html:<strong>Do you want to be the next&nbsp\; Dale Carnegie\, Mary Kay Ash or Grant Cardone?<br />\nDo you want to know what it takes to be an effective salesperson?</strong><br />\n<br />\nThe fact is that everyone is in sales\, no matter the job title. It&#39\;s how we stay in business. Our business is based on clients\, customers and relationships. The big question is how do we get them? And how do we keep them? Our expert panel\, led by Bob Weir (Pinpoint Business)\, will be taking you through the tips and tricks of sales - from door knocking\, to direct sales and online sales.<br />\n&nbsp\;<br />\n&quot\;Everyone is in sales\, it&#39\;s up to you how good you want to be at it&quot\;<br />\n&nbsp\;<br />\n&nbsp\;Speakers:<br />\n<strong>Eliot Jessep - BEMA&nbsp\;</strong>and&nbsp\;<strong>Game Kings</strong><br />\nAt 22\, Eliot has managed two successful e-commerce businesses\, has worked in radio\, sold calendars in shopping malls\, done architectural and stage lighting\, sold real estate\, dabbled in broadcasting\, and given talks to other aspiring young businesspeople. Are you looking to set up a webshop? Eliot understands the fundamentals of online sales\, conversions and creating a sales funnel. He&#39\;s the e-commerce guru!<br />\n<br />\n<strong>Jason Davis - UB Freight</strong><br />\nJason has been in sales for 17 years now in that time he has run his own sales company at 21 which he took nationwide to managing the sales and marketing functions for large corporates. He has personally trained over 750 sales people and won the Deloitte fast50 in 2012 as the National Sales Manager of Pulse Energy increasing revenue from $200\,000 to $68\,000\,000 in three years. Now involved in International Freight as the Sales Manager for UB Freight with other varied business interests including Financial Services\, Artisan Clocks and a Wedding venue. Jason is happy to teach the techniques and mindset needed for success in Sales.<br />\n<br />\n<strong>Steve Sartin - International Foods</strong><br />\nSteve is no stranger to the sales world. With his Texan accent and people-skills\, Steve knows sales inside and out. He&#39\;s a big believer in to 10X it rule\, by multiplying what you want by 10 and striving for it. Steve is a Founder and Managing Director of International Foods - NZ&#39\;s biggest importer and wholesaler of American groceries. Steve travels the country pitching and selling to national distributors and specialty stores.<br />\n<br />\n<em>The Habit 7 series\, is powered by <strong>Pinpoint Business</strong>\, and is based on Stephen Covey&rsquo\;s &ldquo\;7 Habits of Highly Effective People&rdquo\;. The 7th one being Sharpen the Saw (Continual Improvement). If you are a business owner\, or an individual wanting to improve your skills\, this is the place for you.</em><br />\n<br />\nCome along to the workshop and get ready to sharpen your saw!
LOCATION:Events Room 1\, Wintec City Campus
UID:e.2751.2455
SEQUENCE:3
DTSTAMP:20260423T050908Z
URL:https://business.waikatochamber.co.nz/events/details/habit-7-how-to-seal-a-deal-mastering-the-art-of-sales-2455
END:VEVENT

END:VCALENDAR
