BEGIN:VCALENDAR
VERSION:2.0
PRODID:-//ChamberMaster//Event Calendar 2.0//EN
METHOD:PUBLISH
X-PUBLISHED-TTL:P3D
REFRESH-INTERVAL:P3D
CALSCALE:GREGORIAN
BEGIN:VEVENT
DTSTART:20170831T053000Z
DTEND:20170831T070000Z
X-MICROSOFT-CDO-ALLDAYEVENT:FALSE
SUMMARY:Habit 7: "Growing Pains" - A discussion on legal\, financial and marketing essentials
DESCRIPTION:Habit 7 ? Habits for the brave "Growing Pains" - A discussion on legal\, financial and marketing essentials \n\nThere are many holes google can get you out of but there be few that many fall into that google has no strength to save. Rather than calling S.O.B (save our business) at the bottom of the cliff\, let us help slap a fence up at the top!\n\nJoin us at the August Habit7 workshop as we help business owners of all sizes avoid the paths of ?expensive? return and teach them habits they need to know to grow.
X-ALT-DESC;FMTTYPE=text/html:<p><strong>Habit 7 ? Habits for the brave </strong><span style="font-family:calibri\,sans-serif\;"><span style="font-size:11.0pt\;">"Growing Pains" - A discussion on legal\, financial and marketing essentials&nbsp\;</span></span></p>\n\n<p>There are many holes google can get you out of but there be few that many fall into that google has no strength to save. Rather than calling S.O.B (save our business) at the bottom of the cliff\, let us help slap a fence up at the top!</p>\n\n<p>Join us at the August Habit7 workshop as we help business owners of all sizes avoid the paths of ?expensive? return and teach them habits they need to know to grow.</p>\n
LOCATION:Gallagher Events Room 1\, Wintec City Campus.
UID:e.2751.54
SEQUENCE:3
DTSTAMP:20260423T225010Z
URL:https://business.waikatochamber.co.nz/events/details/habit-7-growing-pains-a-discussion-on-legal-financial-and-marketing-essentials-54
END:VEVENT

END:VCALENDAR
