BEGIN:VCALENDAR
VERSION:2.0
PRODID:-//ChamberMaster//Event Calendar 2.0//EN
METHOD:PUBLISH
X-PUBLISHED-TTL:P3D
REFRESH-INTERVAL:P3D
CALSCALE:GREGORIAN
BEGIN:VEVENT
DTSTART:20170629T060000Z
DTEND:20170629T073000Z
X-MICROSOFT-CDO-ALLDAYEVENT:FALSE
SUMMARY:Habit 7: Get a @handle of your online and social media marketing
DESCRIPTION:Come join us - we have invited our online experts to give us the "Triple T's" all business owners must know when dealing with social media and online marketing.\n\nThis will be an interactive and discussion led workshop led by our online gurus and are aimed at those looking to:\n\n\n	Make a decision on what social platforms are best for their business\n	Increase their knowledge about Facebook\, Instagram and Google\n	Improve their Facebook engagement\n	Increase their Instagram following\n	Learn more about how social media can help their business\n	Use Googles free tools effectively\n	Increase their visibility on Google\n	Be found online by the right people!
X-ALT-DESC;FMTTYPE=text/html:<h3><strong>Come join us - we have invited our online experts to give us the &ldquo\;Triple T&rsquo\;s&rdquo\; all business owners must know when dealing with social media and online marketing.</strong></h3>\n\n<p>This will be an interactive and discussion led workshop led by our online gurus and are aimed at those looking to:</p>\n\n<ul>\n	<li>Make a decision on what social platforms are best for their business</li>\n	<li>Increase their knowledge about Facebook\, Instagram and Google</li>\n	<li>Improve their Facebook engagement</li>\n	<li>Increase their Instagram following</li>\n	<li>Learn more about how social media can help their business</li>\n	<li>Use Googles free tools effectively</li>\n	<li>Increase their visibility on Google</li>\n	<li><strong><u>Be found online by the right people!</u></strong></li>\n</ul>\n
LOCATION:Gallagher Hub\, Events Room 1\, Wintec\, City Campus Wintec City Campus Map
UID:e.2751.57
SEQUENCE:3
DTSTAMP:20260424T015922Z
URL:https://business.waikatochamber.co.nz/events/details/habit-7-get-a-handle-of-your-online-and-social-media-marketing-57
END:VEVENT

END:VCALENDAR
