BEGIN:VCALENDAR
VERSION:2.0
PRODID:-//ChamberMaster//Event Calendar 2.0//EN
METHOD:PUBLISH
X-PUBLISHED-TTL:P3D
REFRESH-INTERVAL:P3D
CALSCALE:GREGORIAN
BEGIN:VEVENT
DTSTART:20170322T043000Z
DTEND:20170322T060000Z
X-MICROSOFT-CDO-ALLDAYEVENT:FALSE
SUMMARY:Habit 7
DESCRIPTION:Motivation gets you started\, great habits gets you to the end\, the HABIT7 workshop is a place where business experts provide\, business habits\, tips and tricks to help small businesses succeed.\n\n\n\nOur topic's of discussion this time round is\, The 3P's of successful business most get wrong\, People\, Pennies and Positioning
X-ALT-DESC;FMTTYPE=text/html:Motivation gets you started\, great habits gets you to the end\, the HABIT7&nbsp\;workshop is a place where business experts provide\, business habits\, tips and tricks to help small businesses succeed.<br />\n<br />\nOur topic&#39\;s of discussion&nbsp\;this time round is\, The 3P&#39\;s of successful business most get wrong\,<em> People\, Pennies and Positioning</em>
LOCATION:The Longroom 1\, Wintec\, Hamilton CBD
UID:e.2751.37
SEQUENCE:3
DTSTAMP:20260424T071750Z
URL:https://business.waikatochamber.co.nz/events/details/habit-7-37
END:VEVENT

END:VCALENDAR
