BEGIN:VCALENDAR
VERSION:2.0
PRODID:-//ChamberMaster//Event Calendar 2.0//EN
METHOD:PUBLISH
X-PUBLISHED-TTL:P3D
REFRESH-INTERVAL:P3D
CALSCALE:GREGORIAN
BEGIN:VEVENT
DTSTART:20190402T040000Z
DTEND:20190402T060000Z
X-MICROSOFT-CDO-ALLDAYEVENT:FALSE
SUMMARY:Growing Your Business and Bottom Line with Governance - HABIT 7
DESCRIPTION:Are you ready for the next phase of your business journey? Have you wondered what is governance all about?\n\n \n\nHave you considered how improving governance in your business could\; \n\n	Improve financial results\n	Manage risks better\n	Reduce your stress levels\n	Deliver more lifestyle balance\n	Plan better for the future \n\nFor the first workshop of the year\, we'll be diving into the world of Governance. We've brought in two experts in the field to break down what governance means for small businesses (1   20 employees)\, and what is actually appropriate for your business.\n\n\n\nThis will be a hard-hitting\, two way session. We're opening up the opportunity to submit your questions\, so send them in if you really want them answered. Bring your notebook and pen\, because there's a lot to take in!\n\n\n\nSpeakers:\n\nPhilip Monahan & Morgan Morris - Tompkins Wake\n\n\n\nTony Begbie - Directors Inc.\n\n\n	Chartered Member of Institute of Directors\n	15 years governance experience across various sectors\, as Director\, Vice Chair & Chairman\n	Licenced REAA 2008 Business Broker with ABC Business Sales\n	Voluntary Business Mentor\n\n\n\nThe Habit 7 series is based on Stephen Covey's "7 Habits of Highly Effective People". The 7th one being Sharpen the Saw (Continual Improvement). If you are a business owner\, or an individual wanting to improve your skills\, this is the place for you.
X-ALT-DESC;FMTTYPE=text/html:Are you ready for the next phase of your business journey? Have you wondered what is governance all about?<br />\n&nbsp\;<br />\nHave you considered how improving governance in your business could\;&nbsp\;\n<ul>\n	<li>Improve financial results</li>\n	<li>Manage risks better</li>\n	<li>Reduce your stress levels</li>\n	<li>Deliver more lifestyle balance</li>\n	<li>Plan better for the future&nbsp\;</li>\n</ul>\nFor the first workshop of the year\, we&#39\;ll be diving into the world of Governance. We&#39\;ve brought in two experts in the field to break down what governance means for small businesses (1 &ndash\; 20 employees)\, and what is actually appropriate for your business.<br />\n<br />\nThis will be a hard-hitting\, two way session. We&#39\;re opening up the opportunity to submit your questions\, so send them in if you really want them answered. Bring your notebook and pen\, because there&#39\;s a lot to take in!<br />\n<br />\nSpeakers:<br />\n<strong>Philip Monahan</strong> &amp\; <strong>Morgan Morris</strong> - Tompkins Wake<br />\n<br />\n<strong>Tony Begbie</strong> - Directors Inc.\n\n<ul>\n	<li>Chartered Member of Institute of Directors</li>\n	<li>15&nbsp\;years governance experience across various sectors\, as Director\, Vice Chair &amp\; Chairman</li>\n	<li>Licenced REAA 2008 Business Broker with ABC Business Sales</li>\n	<li>Voluntary Business Mentor</li>\n</ul>\n<br />\n<em>The Habit 7 series is based on Stephen Covey&rsquo\;s &ldquo\;7 Habits of Highly Effective People&rdquo\;. The 7th one being Sharpen the Saw (Continual Improvement). If you are a business owner\, or an individual wanting to improve your skills\, this is the place for you.</em>
LOCATION:Events Room 1\, Gallagher Hub Wintec City Campus
UID:e.2751.2627
SEQUENCE:3
DTSTAMP:20260422T155443Z
URL:https://business.waikatochamber.co.nz/events/details/growing-your-business-and-bottom-line-with-governance-habit-7-2627
END:VEVENT

END:VCALENDAR
