BEGIN:VCALENDAR
VERSION:2.0
PRODID:-//ChamberMaster//Event Calendar 2.0//EN
METHOD:PUBLISH
X-PUBLISHED-TTL:P3D
REFRESH-INTERVAL:P3D
CALSCALE:GREGORIAN
BEGIN:VEVENT
DTSTART:20171121T210000Z
DTEND:20171121T230000Z
X-MICROSOFT-CDO-ALLDAYEVENT:FALSE
SUMMARY:Google My Business Basics
DESCRIPTION:Have you noticed that listing that pops up on the side of the page when you search for your local mechanic and wondered how it gets there?\n\n\n\nCome along to our digital marketing workshop that will cover the Google My Business basics\, lead by our friends from Yellow. \n\n\n\nThe workshop will give you all the basic skills needed to set up\, optimise and maintain your GMB listing.\n\n	What is a Google My Business listing?\n	Why do I need one?\n	How to set up/claim your GMB listing\n	Reviews. How important are they? How to respond to them.\n\n\n\nThe session will be lead by River Jermyn\, Digital Marketing Guru at Yellow New Zealand. River is a fixer of all things digital. He offers clients and organisations online digital strategy\, advice and planning so their business can be found by the right people. River's background is in marketing\, advertising\, telecommunications and previous business ownership in food and hospitality - he really does understand how the typical small kiwi business works and the daily struggles that come with it.
X-ALT-DESC;FMTTYPE=text/html:Have you noticed that listing that pops up on the side of the page when you search for your local mechanic and&nbsp\;wondered&nbsp\;how it gets there?<br />\n<br />\nCome along to our digital marketing workshop that will cover the Google My Business basics\, lead by our friends from Yellow.&nbsp\;<br />\n<br />\nThe workshop will give you all the basic skills needed to set up\, optimise and maintain your GMB listing.\n<ul>\n	<li>What is a Google My Business listing?</li>\n	<li>Why do I need one?</li>\n	<li>How to set up/claim your GMB&nbsp\;listing</li>\n	<li>Reviews. How important are they? How to respond to them.</li>\n</ul>\n<br />\nThe session will be lead by River Jermyn\, Digital Marketing Guru at Yellow New Zealand. River is a fixer of all things digital. He offers clients and organisations online digital strategy\, advice and planning so their business can be found by the right people. River&#39\;s background is in marketing\, advertising\, telecommunications and previous business ownership in food and hospitality - he really does understand how the typical small kiwi business works and the daily struggles that come with it.&nbsp\;<br />\n&nbsp\;
LOCATION:Business Floor Boardroom\, Level 2\, Wintec House
UID:e.2751.1091
SEQUENCE:3
DTSTAMP:20260423T175543Z
URL:https://business.waikatochamber.co.nz/events/details/google-my-business-basics-1091
END:VEVENT

END:VCALENDAR
