BEGIN:VCALENDAR
VERSION:2.0
PRODID:-//ChamberMaster//Event Calendar 2.0//EN
METHOD:PUBLISH
X-PUBLISHED-TTL:P3D
REFRESH-INTERVAL:P3D
CALSCALE:GREGORIAN
BEGIN:VEVENT
DTSTART:20210510T220000Z
DTEND:20210510T224500Z
X-MICROSOFT-CDO-ALLDAYEVENT:FALSE
SUMMARY:Get to know your Chamber
DESCRIPTION:Get to know your Chamber is all about our members making the most of their membership. During this webinar\, you will meet our team\, and learn how to make the most of your online profile on the Chamber website and member portal including\n\n\n	Using the member login platform\n	Updating your directory page for more impact\n	Updating your team information\n	What are 'hot' and 'member to member deals'\, and how to add them\n	How to post a job\n	Understanding reports\n\n\nBeing a member of the Chamber has many benefits\, including promotion on our website\, we will take you through this and other easy settings to get the most out of our digital platforms. We will record and share this webinar\, so please register even if you can't attend and we will share the recording with you.
X-ALT-DESC;FMTTYPE=text/html:<p><br />\n<span style="font-size:16px\;">Get to know your Chamber is all about our members making the most of their membership.&nbsp\;During this webinar\, you will meet our team\, and learn how to make the most of your online profile on the Chamber website and member portal including</span></p>\n\n<ul>\n	<li style="margin-left:0cm\;"><span style="font-size:16px\;">Using the member login platform</span></li>\n	<li style="margin-left:0cm\;"><span style="font-size:16px\;">Updating your directory page for more impact</span></li>\n	<li style="margin-left:0cm\;"><span style="font-size:16px\;">Updating your team information</span></li>\n	<li style="margin-left:0cm\;"><span style="font-size:16px\;">What are &#39\;hot&#39\; and &#39\;member to member deals&#39\;\, and how to add them</span></li>\n	<li style="margin-left:0cm\;"><span style="font-size:16px\;">How to post a job</span></li>\n	<li style="margin-left:0cm\;"><span style="font-size:16px\;">Understanding reports</span></li>\n</ul>\n\n<p><span style="font-size:16px\;">Being a member of the Chamber has many benefits\, including promotion on our website\, we will take you through this and other easy settings to get the most out of our digital platforms. We will record and share this webinar\, so please register even if you can&#39\;t attend and we will share the recording with you.&nbsp\;</span></p>\n
LOCATION:Zoom - the link to join will be sent in your confirmation email.
UID:e.2751.2800
SEQUENCE:3
DTSTAMP:20260426T040609Z
URL:https://business.waikatochamber.co.nz/events/details/get-to-know-your-chamber-2800
END:VEVENT

END:VCALENDAR
