BEGIN:VCALENDAR
VERSION:2.0
PRODID:-//ChamberMaster//Event Calendar 2.0//EN
METHOD:PUBLISH
X-PUBLISHED-TTL:P3D
REFRESH-INTERVAL:P3D
CALSCALE:GREGORIAN
BEGIN:VEVENT
DTSTART:20210217T193000Z
DTEND:20210218T040000Z
X-MICROSOFT-CDO-ALLDAYEVENT:FALSE
SUMMARY:Foundations of Emotional Intelligence
DESCRIPTION:What's it about? This one-day workshop equips participants with the foundational knowledge and skills to use emotions intelligently at work. Participants will have a robust rationale and framework they can use to start developing an ability to perceive\, use\, understand and manage emotions in themselves and others. Outcomes: Develop crucial skills for managing and dealing with people. Discover how emotions influence thinking\, behavior\, decision making and performance. Identify your triggers and how to respond to them. Improve individual performance and collaboration resulting in better business outcomes. Increase your perception of emotions in yourself and others. Who should attend? Anyone who wants to increase their influencing skills and ability to manage relationships. Leaders\, salespeople\, front-line managers\, project managers\, customer service employees and anyone whose job involves dealing with people. Could your team benefit from this workshop? All our workshops can be tailored to best meet the needs of your staff and your business. Hold it at yours\, or hold it at ours   what works for you\, works for us. Discounted team pricing available on request This workshop is registered with the Management Capability Development Voucher Fund. You may be eligible to receive 50% discounted training. Talk to us about how we can assist you to use this government initiative. Call one of the team at Everest - we're here to help!
X-ALT-DESC;FMTTYPE=text/html:What&rsquo\;s it about? This one-day workshop equips participants with the foundational knowledge and skills to use emotions intelligently at work. Participants will have a robust rationale and framework they can use to start developing an ability to perceive\, use\, understand and manage emotions in themselves and others. Outcomes: Develop crucial skills for managing and dealing with people. Discover how emotions influence thinking\, behavior\, decision making and performance. Identify your triggers and how to respond to them. Improve individual performance and collaboration resulting in better business outcomes. Increase your perception of emotions in yourself and others. Who should attend? Anyone who wants to increase their influencing skills and ability to manage relationships. Leaders\, salespeople\, front-line managers\, project managers\, customer service employees and anyone whose job involves dealing with people. Could your team benefit from this workshop? All our workshops can be tailored to best meet the needs of your staff and your business. Hold it at yours\, or hold it at ours &ndash\; what works for you\, works for us. Discounted team pricing available on request This workshop is registered with the Management Capability Development Voucher Fund. You may be eligible to receive 50% discounted training. Talk to us about how we can assist you to use this government initiative. Call one of the team at Everest - we&rsquo\;re here to help!
LOCATION:Waikato Innovation Park\, Ruakura Road\, Gallagher Building\,Ruakura Conference Room\, 1st Floor\, Hamilton
UID:e.2751.2781
SEQUENCE:3
DTSTAMP:20260421T132548Z
URL:https://business.waikatochamber.co.nz/events/details/foundations-of-emotional-intelligence-02-18-2021-2781
END:VEVENT

END:VCALENDAR
