BEGIN:VCALENDAR
VERSION:2.0
PRODID:-//ChamberMaster//Event Calendar 2.0//EN
METHOD:PUBLISH
X-PUBLISHED-TTL:P3D
REFRESH-INTERVAL:P3D
CALSCALE:GREGORIAN
BEGIN:VEVENT
DTSTART:20170731T220000Z
DTEND:20170731T230000Z
X-MICROSOFT-CDO-ALLDAYEVENT:FALSE
SUMMARY:Forsyth Barr Business Briefing with Martin Hawes
DESCRIPTION:It's important to ask yourself these three questions:\n\nWhy are you in business?  \n\nWhat are your plans for succession? \n\nHow are you going to enjoy your 20 good summers?\n\nJoin Martin Hawes\, respected author\, Authorised Financial Adviser\, and Chair of the Summer Investment Committee\, to learn more about why every business owner needs to be asking themselves these questions.
X-ALT-DESC;FMTTYPE=text/html:<h1>It&rsquo\;s important to ask yourself these three questions:</h1>\n\n<h2>Why are you in business? &nbsp\;</h2>\n\n<h2>What are your plans for succession?&nbsp\;</h2>\n\n<h2>How are you going to enjoy your 20 good summers?</h2>\n\n<div>Join Martin Hawes\, respected author\, Authorised Financial Adviser\, and Chair of the Summer Investment Committee\, to learn more about why every business owner needs to be asking themselves these questions.</div>\n
LOCATION:Novotel Tainui Hamilton\, Alma Street Hamilton (Cobham Room)
UID:e.2751.62
SEQUENCE:3
DTSTAMP:20260423T224347Z
URL:https://business.waikatochamber.co.nz/events/details/forsyth-barr-business-briefing-with-martin-hawes-62
END:VEVENT

END:VCALENDAR
