BEGIN:VCALENDAR
VERSION:2.0
PRODID:-//ChamberMaster//Event Calendar 2.0//EN
METHOD:PUBLISH
X-PUBLISHED-TTL:P3D
REFRESH-INTERVAL:P3D
CALSCALE:GREGORIAN
BEGIN:VEVENT
DTSTART:20180221T090000Z
DTEND:20180221T030000Z
X-MICROSOFT-CDO-ALLDAYEVENT:FALSE
SUMMARY:Finance for Non-Financial Managers
DESCRIPTION:This course aims to introduce non-financial managers to modern financial tools that are available to help them understand and manage their businesses better.\n\nThis course helps managers interpret what the financial numbers are saying and gets them comfortable with conversing in the language of finance\, relating to the performance of their teams and organisation. It also explains the linkages between financials and strategy\, as well as effective performance management indicators that you can employ within your team.
X-ALT-DESC;FMTTYPE=text/html:This course aims to introduce non-financial managers to modern financial tools that are available to help them understand and manage their businesses better.<br />\nThis course helps managers interpret what the financial numbers are saying and gets them comfortable with conversing in the language of finance\, relating to the performance of their teams and&nbsp\;organisation. It also explains the linkages between financials and strategy\, as well as effective performance management indicators that you can employ within your team.
LOCATION:University of Waikato CBD Office\, PWC Building\, 109 Ward St\, Hamilton
UID:e.2751.1103
SEQUENCE:3
DTSTAMP:20260423T124804Z
URL:https://business.waikatochamber.co.nz/events/details/finance-for-non-financial-managers-1103
END:VEVENT

END:VCALENDAR
