BEGIN:VCALENDAR
VERSION:2.0
PRODID:-//ChamberMaster//Event Calendar 2.0//EN
METHOD:PUBLISH
X-PUBLISHED-TTL:P3D
REFRESH-INTERVAL:P3D
CALSCALE:GREGORIAN
BEGIN:VEVENT
DTSTART:20190722T200000Z
DTEND:20190722T210000Z
X-MICROSOFT-CDO-ALLDAYEVENT:FALSE
SUMMARY:Final Business Awards Entry Writing Workshop
DESCRIPTION:The entries for this year's Westpac Waikato Chamber Business Awards are now open. The plan for this workshop is to make those entries shine!  Shelly will be available from 8 - 10am to sit with you\, give you feedback\, and help you get that entry tight and tidy. Come any time during that window.\n\n \n\nBring what you've written with you - and if you're just starting your entry now\, come prepared to WRITE!  This is a hands-on workshop\, not a talky-talk presentation workshop.\n\n\n\nThese workshops will be facilitated by Shelly Davies from Shelly Davies Writing and Training\, who will help you write a punchy and effective awards entry.
X-ALT-DESC;FMTTYPE=text/html:The entries for this year&#39\;s Westpac Waikato Chamber Business Awards are now open.&nbsp\;The plan for this workshop is to make those entries shine!&nbsp\; Shelly will be available from 8 - 10am to sit with you\, give you feedback\, and help you get that entry tight and tidy. Come any time during that window.<br />\n&nbsp\;<br />\nBring what you&#39\;ve written with you - and if you&#39\;re just starting your entry now\, come prepared to WRITE!&nbsp\; This is a hands-on workshop\, not a talky-talk presentation workshop.<br />\n<br />\nThese workshops will be facilitated by Shelly Davies from Shelly Davies Writing and Training\, who will help you write a punchy and effective awards entry.&nbsp\;
LOCATION:The Long Room\, Wintec House Wintec City Campus
UID:e.2751.2652
SEQUENCE:3
DTSTAMP:20260422T104214Z
URL:https://business.waikatochamber.co.nz/events/details/final-business-awards-entry-writing-workshop-2652
END:VEVENT

END:VCALENDAR
