BEGIN:VCALENDAR
VERSION:2.0
PRODID:-//ChamberMaster//Event Calendar 2.0//EN
METHOD:PUBLISH
X-PUBLISHED-TTL:P3D
REFRESH-INTERVAL:P3D
CALSCALE:GREGORIAN
BEGIN:VEVENT
DTSTART:20180503T003000Z
DTEND:20180503T050000Z
X-MICROSOFT-CDO-ALLDAYEVENT:FALSE
SUMMARY:Executive Innovation Bootcamp: -Session 1 What is your "Innovation Score"
DESCRIPTION:Leading Business Growth through Innovation\nThe Waikato Innovation Park has partnered with the University of Waikato to deliver a seven part programme to drive growth and innovation in your organisation.\n\nOverview\n\nAt the end of this bootcamp\, our executive cohort will walk away with a roadmap to establish or re-inject an innovative mindset into their business. This seven-week programme will provide an overview of key innovation principles and challenges\, and provide attendees with the practical skills to create and capture positive value for their organisation\, They will get to hear from leading innovators in NZ\, experience case studies of highly successful innovation initiatives and network with like-minds from the region. At the conclusion of the program\, attendees will leave with a practical roadmap to guide innovation efforts that can re-invigorate growth within their business.\n\nCome along to our introductory programme workshop - at no charge\, but registrations are essential.
X-ALT-DESC;FMTTYPE=text/html:<h2 style="box-sizing: border-box\; font-family: Lato\, Helvetica\, Arial\, sans-serif\; font-weight: 600\; line-height: 2rem\; color: rgb(190\, 4\, 3)\; margin-top: 30px\; margin-bottom: 10px\; font-size: 1.728rem\;">Leading Business Growth through Innovation</h2>\n<span style="color: rgb(53\, 53\, 53)\; font-family: Lato\, Helvetica\, Arial\, sans-serif\; font-size: 16px\;">The Waikato Innovation Park has partnered with the University of Waikato to deliver a seven part programme to drive growth and innovation in your organisation.</span>\n\n<h2 style="box-sizing: border-box\; font-family: Lato\, Helvetica\, Arial\, sans-serif\; font-weight: 600\; line-height: 2rem\; color: rgb(190\, 4\, 3)\; margin-top: 30px\; margin-bottom: 10px\; font-size: 1.728rem\;">Overview</h2>\n\n<p style="box-sizing: border-box\; margin: 0px 0px 15px\; line-height: 1.6\; color: rgb(53\, 53\, 53)\; font-family: Lato\, Helvetica\, Arial\, sans-serif\; font-size: 16px\;">At the end of this bootcamp\, our executive cohort will walk away with a roadmap to establish or re-inject an innovative mindset into their business. This seven-week programme will provide an overview of key innovation principles and challenges\, and provide attendees with the practical skills to create and capture positive value for their organisation\, They will get to hear from leading innovators in NZ\, experience case studies of highly successful innovation initiatives and network with like-minds from the region. At the conclusion of the program\, attendees will leave with a practical roadmap to guide innovation efforts that can re-invigorate growth within their business.</p>\n\n<p style="box-sizing: border-box\; margin: 0px 0px 15px\; line-height: 1.6\; color: rgb(53\, 53\, 53)\; font-family: Lato\, Helvetica\, Arial\, sans-serif\; font-size: 16px\;">Come along to our introductory programme workshop -&nbsp\;<strong style="box-sizing: border-box\;">at no charge\, but registrations are essential.</strong></p>\n<br />\n<br />\n&nbsp\;
LOCATION:Programme Delivery Location Waikato Innovation Park\, Ruakura\, Hamilton Duration May to July 2018 Format Sessions held fortnightly on Thursday 12:30 - 5pm
UID:e.2751.2298
SEQUENCE:3
DTSTAMP:20260419T182940Z
URL:https://business.waikatochamber.co.nz/events/details/executive-innovation-bootcamp-session-1-what-is-your-innovation-score-2298
END:VEVENT

END:VCALENDAR
