BEGIN:VCALENDAR
VERSION:2.0
PRODID:-//ChamberMaster//Event Calendar 2.0//EN
METHOD:PUBLISH
X-PUBLISHED-TTL:P3D
REFRESH-INTERVAL:P3D
CALSCALE:GREGORIAN
BEGIN:VEVENT
DTSTART:20220913T003000Z
DTEND:20220913T013000Z
X-MICROSOFT-CDO-ALLDAYEVENT:FALSE
SUMMARY:Everest People: Free Webinar - Retention
DESCRIPTION:Panelists: Senga Allen and Greg Cateley Retaining key staff is likely to be one of the biggest challenges for any employer in 2022. Employers will want to be armed with some strategies to proactively keep their employees "tuned in and switched on". Join Senga and Greg as we discuss the real drivers of retention in today's employment market and get some practical ideas that any organisation can implement.
X-ALT-DESC;FMTTYPE=text/html:Panelists: Senga Allen and Greg Cateley Retaining key staff is likely to be one of the biggest challenges for any employer in 2022. Employers will want to be armed with some strategies to proactively keep their employees &ldquo\;tuned in and switched on&rdquo\;. Join Senga and Greg as we discuss the real drivers of retention in today&rsquo\;s employment market and get some practical ideas that any organisation can implement.
LOCATION:Online
UID:e.2751.3943
SEQUENCE:3
DTSTAMP:20260425T180201Z
URL:https://business.waikatochamber.co.nz/events/details/everest-people-free-webinar-retention-3943
END:VEVENT

END:VCALENDAR
