BEGIN:VCALENDAR
VERSION:2.0
PRODID:-//ChamberMaster//Event Calendar 2.0//EN
METHOD:PUBLISH
X-PUBLISHED-TTL:P3D
REFRESH-INTERVAL:P3D
CALSCALE:GREGORIAN
BEGIN:VEVENT
DTSTART:20180912T040000Z
DTEND:20180912T060000Z
X-MICROSOFT-CDO-ALLDAYEVENT:FALSE
SUMMARY:European Union –New Zealand Free Trade Agreement and the Government’s Trade for All agenda
DESCRIPTION:Come along to our free event for the opportunity to hear from the Ministry of Foreign Affairs and Trade on the European Union New Zealand free trade agreement negotiation\, and on developing a Trade for All agenda for the benefit of all New Zealanders. \n \n\nWhat will I experience if I come?\n\n  Find out what the European Union   New Zealand free trade agreement will mean for New Zealanders\;\n\n  Get an update on other trade agreements under negotiation or consideration\;\n\n  Hear about the Government's Trade for All agenda and how it aims to benefit all New Zealanders\; and\n\n  Ask questions\, share your views\, and hear what others in your community are thinking.\n\n  The presentation will be followed by plenty of time for questions and answers\, and networking and refreshments with senior MFAT officials.\n \n\nFurther information about the EU-NZ FTA and Trade for All:\n\nThe European Union (made up of 28 member states) is a close and like-minded partner for New Zealand. A progressive and inclusive free trade agreement is a chance to deepen that partnership\, deliver significant economic gains\, and agree on high standards in areas that matter to New Zealanders. Information on the EU-NZ FTA can be found on the Ministry of Foreign Affairs and Trade website at: www.mfat.govt.nz/en/trade/free-trade-agreements/agreements-under-negotiation/eu-fta/  \n \n\nThe government is developing a Trade for All policy that delivers for all New Zealanders and is seeking your views on this. This is a chance to step back from looking at any individual trade agreement and instead consider trade policy in general\, our current practice\, and what's best for New Zealand. The goal is a trade policy that works alongside other government policies\, to support sustainable and inclusive economic development. Share your views at this event or Have your say online at www.haveyoursay.mfat.govt.nz \n\n\n\n- ENSURE YOUR PLACE\, REGISTER NOW -
X-ALT-DESC;FMTTYPE=text/html:<div>Come along to our free event for the opportunity to hear from the Ministry of Foreign Affairs and Trade on the European Union&ndash\;New Zealand free trade agreement negotiation\, and on developing a Trade for All agenda for the benefit of all New Zealanders.&nbsp\;</div>\n&nbsp\;\n\n<div>What will I experience if I come?</div>\n\n<div>&bull\; Find out what the European Union &ndash\; New Zealand free trade agreement will mean for New Zealanders\;</div>\n\n<div>&bull\; Get an update on other trade agreements under negotiation or consideration\;</div>\n\n<div>&bull\; Hear about the Government&rsquo\;s Trade for All agenda and how it aims to benefit all New Zealanders\; and</div>\n\n<div>&bull\; Ask questions\, share your views\, and hear what others in your community are thinking.</div>\n\n<div>&bull\; The presentation will be followed by plenty of time for questions and answers\, and networking and refreshments with senior MFAT officials.</div>\n&nbsp\;\n\n<div>Further information about the EU-NZ FTA and Trade for All:</div>\n\n<div>The European Union (made up of 28 member states) is a close and like-minded partner for New Zealand. A progressive and inclusive free trade agreement is a chance to deepen that partnership\, deliver significant economic gains\, and agree on high standards in areas that matter to New Zealanders. Information on the EU-NZ FTA can be found on the Ministry of Foreign Affairs and Trade website at: www.mfat.govt.nz/en/trade/free-trade-agreements/agreements-under-negotiation/eu-fta/&nbsp\;&nbsp\;</div>\n&nbsp\;\n\n<div>The government is developing a Trade for All policy that delivers for all New Zealanders and is seeking your views on this. This is a chance to step back from looking at any individual trade agreement and instead consider trade policy in general\, our current practice\, and what&rsquo\;s best for New Zealand. The goal is a trade policy that works alongside other government policies\, to support sustainable and inclusive economic development. Share your views at this event or Have your say online at www.haveyoursay.mfat.govt.nz&nbsp\;</div>\n\n<div style="text-align:center"><br />\n<strong>- ENSURE YOUR PLACE\, REGISTER NOW -</strong></div>\n
LOCATION:PWC\, Level 4\, 109 Ward St (Cnr Ward & Anglesea Sts)\, Hamilton
UID:e.2751.2602
SEQUENCE:3
DTSTAMP:20260423T022239Z
URL:https://business.waikatochamber.co.nz/events/details/european-union-new-zealand-free-trade-agreement-and-the-government-s-trade-for-all-agenda-2602
END:VEVENT

END:VCALENDAR
