BEGIN:VCALENDAR
VERSION:2.0
PRODID:-//ChamberMaster//Event Calendar 2.0//EN
METHOD:PUBLISH
X-PUBLISHED-TTL:P3D
REFRESH-INTERVAL:P3D
CALSCALE:GREGORIAN
BEGIN:VEVENT
DTSTART:20220214T210000Z
DTEND:20220214T220000Z
X-MICROSOFT-CDO-ALLDAYEVENT:FALSE
SUMMARY:Emerge - How to adult. Getting your legal affairs sorted out for life’s big milestones.
DESCRIPTION:Emerge\, the latest event series from the Waikato Chamber of Commerce\, is designed to inspire the next generation of the Waikato business community. If you are in the first 2-7 years of your career\, this event is for you.\n\n\n\nHow to adult\n\nGetting your legal affairs sorted out for life's big milestones.\n\n\n\nWe all know we should have a Will\, and of course if you buy a property you're going to need a lawyer. But what about all those other big life events? What do you actually need to think about and do you actually need a lawyer or not?\n\n \n\nIn our latest Emerge event Amy Bird\, Natalie Whitelock and Jessica Middleton from the McCaw Lewis Lawyers team will take you through the legal aspects of big life moments\, including:\n\n	Buying a house\n	Making a Will\n	Relationship property for long-term relationships or marriages\n	Getting married\n	Starting or buying a business\n\n \n\nJessica Middleton is a Senior Associate in the McCaw Lewis Commercial Team. She has experience across a broad range of commercial matters\, including structuring and governance issues\, sales and purchases of businesses and shares\, commercial leasing and complex contractual matters. She has assisted a variety of clients\, from small business owners and family trusts to complex multi-level organisations.\n\n \n\nNatalie Whitelock is an Associate in the firm's Asset Planning Team\, with a wide range of experience in all aspects of Wills\, trusts\, relationship property\, estate planning and retirement villages. Natalie works with clients to understand their present assets\, future intentions\, and potential liabilities\, to then works alongside other professionals such as accountants\, investment brokers and bankers to develop bespoke solutions.\n\n \n\nAmy Bird is a Senior Solicitor in the Property Team. Amy strives to provide straight-forward\, practical advice and has broad experience in residential and commercial property\, along with property development and subdivision expertise. Amy also brings her experience in corporate commercial law following her work at the Queenstown office of a national law firm.\n\n\n\n \n\nThis event is brought to you by McCaw Lewis Lawyers
X-ALT-DESC;FMTTYPE=text/html:<span style="font-size:14px\;"><span style="font-family:arial\;"><span style="margin: 0px\; padding: 0px\; border: 0px\; outline: 0px\; vertical-align: baseline\; box-sizing: border-box\;">Emerge\, the latest event series from the Waikato Chamber of Commerce\, is designed to inspire the next generation of the Waikato business community. If you are in the first 2-7 years of your career\, this event is for you.</span><br />\n<br />\n<strong>How to adult</strong><br />\n<em>Getting your legal affairs sorted out for life&rsquo\;s big milestones.</em><br />\n<br />\nWe all know we should have a Will\, and of course if you buy a property you&rsquo\;re going to need a lawyer. But what about all those other big life events? What do you actually need to think about and do you actually need a lawyer or not?<br />\n&nbsp\;<br />\nIn our latest Emerge event Amy Bird\, Natalie Whitelock and Jessica Middleton from the McCaw Lewis Lawyers team will take you through the legal aspects of big life moments\, including:</span></span>\n<ul>\n	<li><span style="font-size:14px\;"><span style="font-family:arial\;">Buying a house</span></span></li>\n	<li><span style="font-size:14px\;"><span style="font-family:arial\;">Making a Will</span></span></li>\n	<li><span style="font-size:14px\;"><span style="font-family:arial\;">Relationship property for long-term relationships or marriages</span></span></li>\n	<li><span style="font-size:14px\;"><span style="font-family:arial\;">Getting married</span></span></li>\n	<li><span style="font-size:14px\;"><span style="font-family:arial\;">Starting or buying a business</span></span></li>\n</ul>\n<span style="font-size:14px\;"><span style="font-family:arial\;">&nbsp\;<br />\nJessica Middleton is a Senior Associate in the McCaw Lewis Commercial Team. She has experience across a broad range of commercial matters\, including structuring and governance issues\, sales and purchases of businesses and shares\, commercial leasing and complex contractual matters. She has assisted a variety of clients\, from small business owners and family trusts to complex multi-level organisations.<br />\n&nbsp\;<br />\nNatalie Whitelock is an Associate in the firm&rsquo\;s Asset Planning Team\, with a wide range of experience in all aspects of Wills\, trusts\, relationship property\, estate planning and retirement villages. Natalie works with clients to understand their present assets\, future intentions\, and potential liabilities\, to then works alongside other professionals such as accountants\, investment brokers and bankers to develop bespoke solutions.<br />\n&nbsp\;<br />\nAmy Bird is a Senior Solicitor in the Property Team. Amy strives to provide straight-forward\, practical advice and has broad experience in residential and commercial property\, along with property development and subdivision expertise. Amy also brings her experience in corporate commercial law following her work at the Queenstown office of a national law firm.<br />\n<br style="box-sizing: border-box\; color: rgb(0\, 0\, 0)\; font-family: tahoma\; font-size: 14px\;" />\n<span style="color: rgb(0\, 0\, 0)\;">&nbsp\;</span><br />\n<span style="margin: 0px\; padding: 0px\; border: 0px\; outline: 0px\; font-weight: bolder\; vertical-align: baseline\; box-sizing: border-box\; color: rgb(0\, 0\, 0)\;"><span style="margin: 0px\; padding: 0px\; border: 0px\; outline: 0px\; font-weight: inherit\; font-style: inherit\; vertical-align: baseline\; box-sizing: border-box\; color: rgb(51\, 51\, 51)\;">This event is brought to you by <a href="https://www.mccawlewis.co.nz/">McCaw Lewis Lawyers</a></span></span></span></span>
LOCATION:Due to our current light settings\, this will be a virtual event via Zoom.
UID:e.2751.3620
SEQUENCE:3
DTSTAMP:20260424T034110Z
URL:https://business.waikatochamber.co.nz/events/details/emerge-how-to-adult-getting-your-legal-affairs-sorted-out-for-life-s-big-milestones-3620
END:VEVENT

END:VCALENDAR
