BEGIN:VCALENDAR
VERSION:2.0
PRODID:-//ChamberMaster//Event Calendar 2.0//EN
METHOD:PUBLISH
X-PUBLISHED-TTL:P3D
REFRESH-INTERVAL:P3D
CALSCALE:GREGORIAN
BEGIN:VEVENT
DTSTART:20200616T230000Z
DTEND:20200617T000000Z
X-MICROSOFT-CDO-ALLDAYEVENT:FALSE
SUMMARY:Education in a post Covid-19 world with Professor Neil Quigley (Webinar)
DESCRIPTION:Education in a post Covid-19 world with Professor Neil Quigley\n\n \n\nJoin us for a presentation from University of Waikato Vice-Chancellor\, Professor Neil Quigley.\n\n \n\nNeil will share insights into the University's response to Covid-19\, including moving all aspects of operation online for 10\,000 students and 1\,500 staff\, the international impacts\, and a range of initiatives implemented to ensure equitable outcomes for students in a lockdown environment.  \n\n \n\nNeil will also cover the importance of education\, to our region and the economy in a post Covid-19 world\, and his aspiration to transform Hamilton to a 'University-led' city.\n\n \n\nNeil has been Vice-Chancellor of the University of Waikato since 2015. Since his appointment\, he has led substantial change designed to improve the quality of teaching and research\, align staffing with the challenges of the modern tertiary environment\, and increase engagement with communities around the Waikato\, Bay of Plenty and central North Island regions. \n\n \n\nNeil was previously Professor of Economics\, Deputy Vice-Chancellor (Research) and Provost at Victoria University of Wellington\, and Assistant Professor of Economics at the University of Western Ontario in Canada.\n\n\n\n\n\nNeil is also Chair of the Board of Directors of the Reserve Bank of New Zealand\, and Chair of the Board of the New Zealand Qualifications Authority.
X-ALT-DESC;FMTTYPE=text/html:<strong><span style="font-family:arial\,sans-serif\;">Education in a post Covid-19 world with Professor Neil Quigley</span></strong><br />\n&nbsp\;<br />\n<span style="font-family:arial\,sans-serif\;">Join us for a presentation from University of Waikato Vice-Chancellor\, Professor Neil Quigley.</span><br />\n&nbsp\;<br />\n<span style="font-family:arial\,sans-serif\;">Neil will share insights into the University&rsquo\;s response to Covid-19\, including moving all aspects of operation online for 10\,000 students and 1\,500 staff\, the international impacts\, and a range of initiatives implemented to ensure equitable outcomes for students in a lockdown environment.&nbsp\; </span><br />\n&nbsp\;<br />\n<span style="font-family:arial\,sans-serif\;">Neil will also cover the importance of education\, to our region and the economy in a post Covid-19 world\, and his aspiration to transform Hamilton to a &lsquo\;University-led&rsquo\; city.</span><br />\n&nbsp\;<br />\n<span style="font-family:arial\,sans-serif\;">Neil has been Vice-Chancellor of the University of Waikato since 2015. Since his appointment\, he has led substantial change designed to improve the quality of teaching and research\, align staffing with the challenges of the modern tertiary environment\, and increase engagement with communities around the Waikato\, Bay of Plenty and central North Island regions. </span><br />\n&nbsp\;<br />\n<span style="font-family:arial\,sans-serif\;">Neil was previously Professor of Economics\, Deputy Vice-Chancellor (Research) and Provost at Victoria University of Wellington\, and Assistant Professor of Economics at the University of Western Ontario in Canada.</span><br />\n<br />\n<br />\n<span style="font-family:arial\,sans-serif\;">Neil is also Chair of the Board of Directors of the Reserve Bank of New Zealand\, and Chair of the Board of the New Zealand Qualifications Authority.</span><br />\n&nbsp\;<br />\n&nbsp\;
LOCATION:Webinar - a link to join this webinar will be included in the registration confirmation email.
UID:e.2751.2737
SEQUENCE:3
DTSTAMP:20260421T165104Z
URL:https://business.waikatochamber.co.nz/events/details/education-in-a-post-covid-19-world-with-professor-neil-quigley-webinar-2737
END:VEVENT

END:VCALENDAR
