BEGIN:VCALENDAR
VERSION:2.0
PRODID:-//ChamberMaster//Event Calendar 2.0//EN
METHOD:PUBLISH
X-PUBLISHED-TTL:P3D
REFRESH-INTERVAL:P3D
CALSCALE:GREGORIAN
BEGIN:VEVENT
DTSTART:20180411T193000Z
DTEND:20180411T213000Z
X-MICROSOFT-CDO-ALLDAYEVENT:FALSE
SUMMARY:Drug and Alcohol Testing in the Workplace
DESCRIPTION:Join Graeme Smith from The Drug Detection Agency as he helps explains how you can have a safer work environment for you and your people.\n\n\n\nHaving a fair and effective Drug and Alcohol Policy in the workplace is at the core of creating a quality drug-testing regime. This is the start of creating a drug-free environment.\n\nIt is now commonplace for companies to have a drug and alcohol policy. However like any company policy the Drug and Alcohol Policy should be reviewed as new cases are brought before the Employment Courts bringing with them new decisions and requirements relating to drug testing in the workplace.\n\n\n\n TDDA is recognised as the industry leader in on-site workplace drug and alcohol testing.   TDDA has seen many of the pitfalls companies have fallen into from not heeding expert advice and rushing into testing their employees without sound advice from the experts.   TDDA has been involved with a large number of Australasian companies implementing drug and alcohol policies into their workplace.\n\n \n\nTopics include but not limited to:\n\n\n	Discussion and clarification of all aspects of a good Drug & Alcohol policy\n	Managers and Supervisors obligations and requirements for a successful Drug & Alcohol Management plan\n	How to drive an effective drug free culture\n	Drug and alcohol testing in the workplace.\n	The basics about the AS/NZS 4308:2008.\n	Duties under the Health and Safety Employment Act.\n	Statistics and facts about drug use and testing.\n	Forming reasonable grounds and identifying the Physical\, Performance\, Behavioral and Personal indicators\n	Drug abuse indicators and associated paraphernalia.\n	Search and seizure when drugs are found or drug use is suspected\n	Receiving and handling sensitive information.
X-ALT-DESC;FMTTYPE=text/html:<p><span style="font-size:16px\;">Join Graeme Smith from The Drug Detection Agency as he&nbsp\;helps explains how you can have a safer work environment for you and your people.</span><br />\n<br />\n<span style="font-size:12px\;">Having a fair and effective Drug and Alcohol Policy in the workplace is at the core of creating a quality drug-testing regime. This is the start of creating a drug-free environment.<br />\nIt is now commonplace for companies to have a drug and alcohol policy. However like any company policy the Drug and Alcohol Policy should be reviewed as new cases are brought before the Employment Courts bringing with them new decisions and requirements relating to drug testing in the workplace.<br />\n<br />\n&#8203\;TDDA is recognised as the industry leader in on-site workplace drug and alcohol testing.&nbsp\; &nbsp\;TDDA has seen many of the pitfalls companies have fallen into from not heeding expert advice and rushing into testing their employees without sound advice from the experts.&nbsp\; &#8203\;TDDA has been involved with a large number of Australasian companies implementing drug and alcohol policies into their workplace.<br />\n&nbsp\;<br />\nTopics include but not limited to:</span></p>\n\n<ul>\n	<li><span style="font-size:12px\;">Discussion and clarification of all aspects of a good Drug &amp\; Alcohol policy</span></li>\n	<li><span style="font-size:12px\;">Managers and Supervisors obligations and requirements for a successful Drug &amp\; Alcohol Management plan</span></li>\n	<li><span style="font-size:12px\;">How to drive an effective drug free culture</span></li>\n	<li><span style="font-size:12px\;">Drug and alcohol testing in the workplace.</span></li>\n	<li><span style="font-size:12px\;">The basics about the AS/NZS 4308:2008.</span></li>\n	<li><span style="font-size:12px\;">Duties under the Health and Safety Employment Act.</span></li>\n	<li><span style="font-size:12px\;">Statistics and facts about drug use and testing.</span></li>\n	<li><span style="font-size:12px\;">Forming reasonable grounds and identifying the Physical\, Performance\, Behavioral and Personal indicators</span></li>\n	<li><span style="font-size:12px\;">Drug abuse indicators and associated paraphernalia.</span></li>\n	<li><span style="font-size:12px\;">Search and seizure when drugs are found or drug use is suspected</span></li>\n	<li><span style="font-size:12px\;">Receiving and handling sensitive information.</span></li>\n</ul>\n
LOCATION:The Verandah\, Hamilton Lake
UID:e.2751.1253
SEQUENCE:3
DTSTAMP:20260423T093147Z
URL:https://business.waikatochamber.co.nz/events/details/drug-and-alcohol-testing-in-the-workplace-1253
END:VEVENT

END:VCALENDAR
