BEGIN:VCALENDAR
VERSION:2.0
PRODID:-//ChamberMaster//Event Calendar 2.0//EN
METHOD:PUBLISH
X-PUBLISHED-TTL:P3D
REFRESH-INTERVAL:P3D
CALSCALE:GREGORIAN
BEGIN:VEVENT
DTSTART:20170524T213000Z
DTEND:20170524T230000Z
X-MICROSOFT-CDO-ALLDAYEVENT:FALSE
SUMMARY:Diversity Works
DESCRIPTION:Are you maximising the business benefits of New Zealand's diverse workforce? Join the Chamber as we partner with Diversity Works New Zealand to bring diversity and inclusion education to Hamilton.\n\nBev Cassidy-Mackenzie\, chief executive of DWNZ\, will provide an overview of the benefits of leveraging diversity in the workplace and how to address issues that may arise in a rapidly evolving labour market. She will also share strategies to help you mitigate unconscious bias in your workplace that might be throwing up barriers in your diversity journey.\n\nTuihana Ohia\, from the Te Wananga o Aotearoa\, will also be at this session to share how the organisation implemented an initiative that improved the health and wellbeing of its workforce and their families. The Tau Ora holistic wellness programme\, which won the Work Life Balance Award at last year's Diversity Awards NZ\, has resulted in staff reporting improvements in wellbeing\, energy and attitude and enjoyment.
X-ALT-DESC;FMTTYPE=text/html:<h2><span style="font-size:12px\;">Are you maximising the business benefits of New Zealand&rsquo\;s diverse workforce? Join the Chamber as we partner with Diversity Works New Zealand to bring diversity and inclusion education to Hamilton.</span></h2>\n\n<p><span style="font-size:12px\;">Bev Cassidy-Mackenzie\, chief executive of DWNZ\, will provide an overview of the benefits of leveraging diversity in the workplace and how to address issues that may arise in a rapidly evolving labour market. She will also share strategies to help you mitigate unconscious bias in your workplace that might be throwing up barriers in your diversity journey.</span></p>\n\n<p><span style="font-size:12px\;">Tuihana Ohia\, from the Te Wananga o Aotearoa\, will also be at this session to share how the organisation implemented an initiative that improved the health and wellbeing of its workforce and their families. The Tau Ora holistic wellness programme\, which won the Work Life Balance Award at last year&rsquo\;s Diversity Awards NZ\, has resulted in staff reporting improvements in wellbeing\, energy and attitude and enjoyment.</span></p>\n
LOCATION:For parking instructions\, please click on the link below. https://chambermaster.blob.core.windows.net/userfiles/UserFiles/chambers/2751/File/DiversityWorkshopParkingPermit.pdf Wintec House\, Longroom. Cnr Nisbet & Anglesea Street Hamilton
UID:e.2751.41
SEQUENCE:3
DTSTAMP:20260424T033304Z
URL:https://business.waikatochamber.co.nz/events/details/diversity-works-41
END:VEVENT

END:VCALENDAR
