BEGIN:VCALENDAR
VERSION:2.0
PRODID:-//ChamberMaster//Event Calendar 2.0//EN
METHOD:PUBLISH
X-PUBLISHED-TTL:P3D
REFRESH-INTERVAL:P3D
CALSCALE:GREGORIAN
BEGIN:VEVENT
DTSTART:20231108T210000Z
DTEND:20231108T220000Z
X-MICROSOFT-CDO-ALLDAYEVENT:FALSE
SUMMARY:Digital Boost: Exploring AI for Business Productivity
DESCRIPTION:Exploring AI for Business Productivity\n\nWith Kat from Digital Boost.\n\n\n\nJoin us online on Thursday\, November 9th\, at 10:00AM \n\nhttps://zoom.us/j/91200762312\n\n\n\nReady to take your business to the next level?\n\n\n\nExplore Digital Boost's FREE resources to supercharge your marketing\, perfect your website\, and craft the perfect business plan. Plug into expert advice\, bite-sized learning\, and master skills like time-saving productivity tools and business insights. Whatever your sector or skill level - there's something for you.\n\n\n\nKey Topics to Explore:\n\nHow to get the most out of ChatGPT: Discover how AI-powered chatbots revolutionise customer support\, content creation and boost efficiency in your organisation.\n\n\n\nVisual Content: Explore AI-driven design tools to create visual content and simplify your marketing efforts.\n\n\n\nPrivacy in the Age of AI: Delve into data privacy and security in the AI era.\n\n\n\nFuture Trends in AI: Stay ahead with insights into the latest AI trends\, we'll discuss some emerging technology and trends.
X-ALT-DESC;FMTTYPE=text/html:<span style="font-size:14px\;"><span style="font-family:arial\;"><strong><span style="color:black\;">Exploring AI for Business Productivity</span></strong><br />\n<span style="color:black\;">With Kat from Digital Boost.</span><br />\n<br />\n<span style="color:black\;">Join us online on Thursday\, November 9th\, at 10:00AM&nbsp\;</span><br />\n<span style="color:black\;"><a href="https://zoom.us/j/91200762312">https://zoom.us/j/91200762312</a></span><br />\n<br />\n<span style="color:black\;">Ready to take your business to the next level?<br />\n<br />\nExplore Digital Boost&rsquo\;s FREE resources to supercharge your marketing\, perfect your website\, and craft the perfect business plan. Plug into expert advice\, bite-sized learning\, and master skills like time-saving productivity tools and business insights. Whatever your sector or skill level - there&rsquo\;s something for you.</span><br />\n<br />\n<span style="color:black\;">Key Topics to Explore:</span><br />\n<strong><span style="color:black\;">How to get the most out of ChatGPT</span></strong><span style="color:black\;">: Discover how AI-powered chatbots revolutionise customer support\, content creation and boost efficiency in your organisation.</span><br />\n<br />\n<strong><span style="color:black\;">Visual Content:</span></strong><span style="color:black\;"> Explore AI-driven design tools to create visual content and simplify your marketing efforts.</span><br />\n<br />\n<strong><span style="color:black\;">Privacy in the Age of AI</span></strong><span style="color:black\;">: Delve into data privacy and security in the AI era.</span><br />\n<br />\n<strong><span style="color:black\;">Future Trends in AI:</span></strong><span style="color:black\;"> Stay ahead with insights into the latest AI trends\, we&rsquo\;ll discuss some emerging technology and trends.&nbsp\;</span></span></span>
LOCATION:
UID:e.2751.4345
SEQUENCE:3
DTSTAMP:20260420T114521Z
URL:https://business.waikatochamber.co.nz/events/details/digital-boost-exploring-ai-for-business-productivity-4345
END:VEVENT

END:VCALENDAR
