BEGIN:VCALENDAR
VERSION:2.0
PRODID:-//ChamberMaster//Event Calendar 2.0//EN
METHOD:PUBLISH
X-PUBLISHED-TTL:P3D
REFRESH-INTERVAL:P3D
CALSCALE:GREGORIAN
BEGIN:VEVENT
DTSTART:20160801T210000Z
DTEND:20160802T010000Z
X-MICROSOFT-CDO-ALLDAYEVENT:FALSE
SUMMARY:Developing Resilience & Managing Stress
DESCRIPTION:You versus stress ... and smart ways to beat it. This developing resilience and managing stress workshop provides valuable insight in to stress and how it can be reduced and managed at both a practical and cognitive level. This workshop will benefit attendees in both their work and personal lives\, and also greatly enhances resiliency and productivity on the job.
X-ALT-DESC;FMTTYPE=text/html:<p><span font-size:="" line-height:="" open="" style="color: rgb(85\, 85\, 85)\; font-family: ">You versus stress ... and smart ways to beat it. This developing resilience and managing stress workshop provides valuable insight in to stress and how it can be reduced and managed at both a practical and cognitive level. This workshop will benefit attendees in both their work and personal lives\, and also greatly enhances resiliency and productivity on the job.</span></p>\n
LOCATION:The Link Community Centre\, Corner River Road & Te Aroha Street
UID:e.2751.5
SEQUENCE:3
DTSTAMP:20260424T180035Z
URL:https://business.waikatochamber.co.nz/events/details/developing-resilience-managing-stress-08-02-2016-5
END:VEVENT

END:VCALENDAR
