BEGIN:VCALENDAR
VERSION:2.0
PRODID:-//ChamberMaster//Event Calendar 2.0//EN
METHOD:PUBLISH
X-PUBLISHED-TTL:P3D
REFRESH-INTERVAL:P3D
CALSCALE:GREGORIAN
BEGIN:VEVENT
DTSTART:20220920T040000Z
DTEND:20220920T060000Z
X-MICROSOFT-CDO-ALLDAYEVENT:FALSE
SUMMARY:Cyber Resilience v20.22 – New defence for the new attack
DESCRIPTION:No one in Waikato needs to be reminded of the impact of a cyber attack\, and nor do we want to worry about what might happen to our business should we be next.\n\n \n\nCert NZ reports 2\,333 incidents in Q1 2022 with a loss value of $3.7million\, therefore it is worthwhile investing your time to learn about the new holistic approach of Cyber Resiliency over just Cyber Security.\n\n \n\nCyber Resilience is the new Cyber Security\, and the difference is your ability to restore your operations from a backup so Resiliency isn't just about keeping bad actors out\, but should the unthinkable happen\, you can get your operations up and running effectively.\n\n \n\nThis also has a positive effect on your business cyber insurance which may provide noteable savings as a result of being able to keep your operation running in the advent of a security event.\n\n \n\nWe have already migrated a range of our clients on the upgrade path from "Cyber Security' to Cyber Resiliency"\, and you will have the opportunity to talk to some at this event\, if you are new to working with Houston.\n\n \n\nAt our event\, you'll be able to network with other business leaders along with hearing from a range of speakers including\; \n\n\n\n- CISO\, James Dickinson - a leading Security Specialist\, former CDO of BDO now working with Houston Technology to deliver NIST Security Framework \n\n\n\n- Samantha Borg - Datto Country Manager who will speak to the world of resiliency and how Datto products enable this.\n\n\n\n- Our very own Founder Alan Chew who will introduce you to Houston and share about the 35 year history of Innovation and support of the Waikato region.\n\n \n\nWe look forward to helping you understand the realities of protecting your business from attack\, but also how we can manage a restore of all systems and data to continue operations speedily reducing any impact to your business\, clients or team.\n\n \n\nWe look forward to hosting you\, your Head of IT and head of the business for this critical security update and opportunity to consider your approach and how we can help.
X-ALT-DESC;FMTTYPE=text/html:<p>No one in Waikato needs to be reminded of the impact of a cyber attack\, and nor do we want to worry about what might happen to our business should we be next.<br />\n&nbsp\;<br />\nCert NZ reports 2\,333 incidents in Q1 2022 with a loss value of $3.7million\, therefore it is worthwhile investing your time to learn about the new holistic approach of Cyber Resiliency over just Cyber Security.<br />\n&nbsp\;<br />\nCyber Resilience is the new Cyber Security\, and the difference is your ability to restore your operations from a backup so&nbsp\;Resiliency isn&#39\;t just about keeping bad actors out\, but should the unthinkable happen\, you can get your operations up and running effectively.<br />\n&nbsp\;<br />\nThis also has a positive effect on your business cyber insurance which may provide noteable savings as a result of being able to keep your operation running in the advent of a security event.<br />\n&nbsp\;<br />\nWe have already migrated a range of our clients on the upgrade path from &quot\;Cyber Security&#39\; to Cyber Resiliency&quot\;\, and you will have the opportunity to talk to some at this event\,&nbsp\;if you are new to working with Houston.<br />\n&nbsp\;<br />\nAt our event\, you&#39\;ll be able to network with other business leaders along with hearing from a range of speakers including\;&nbsp\;<br />\n<br />\n- CISO\, James Dickinson - a leading Security Specialist\, former CDO of BDO now working with Houston Technology to deliver NIST Security Framework&nbsp\;<br />\n<br />\n- Samantha Borg - Datto Country Manager who will speak to the world of resiliency and how Datto products enable this.<br />\n<br />\n- Our very own Founder Alan Chew who will introduce you to Houston and share about the 35 year history of Innovation and support of the Waikato region.<br />\n&nbsp\;<br />\nWe look forward to helping you understand the realities of protecting your business from attack\, but also how we can manage a restore of all systems and data to continue operations speedily reducing any impact to your business\, clients or team.<br />\n&nbsp\;<br />\nWe look forward to hosting you\, your Head of IT and head of the business for this critical security update and opportunity to consider your approach and how we can help.</p>\n
LOCATION:Long Room\, Wintec House\, Wintec city campus
UID:e.2751.3934
SEQUENCE:3
DTSTAMP:20260425T180453Z
URL:https://business.waikatochamber.co.nz/events/details/cyber-resilience-v20-22-new-defence-for-the-new-attack-3934
END:VEVENT

END:VCALENDAR
