BEGIN:VCALENDAR
VERSION:2.0
PRODID:-//ChamberMaster//Event Calendar 2.0//EN
METHOD:PUBLISH
X-PUBLISHED-TTL:P3D
REFRESH-INTERVAL:P3D
CALSCALE:GREGORIAN
BEGIN:VEVENT
DTSTART:20220915T040000Z
DTEND:20220915T060000Z
X-MICROSOFT-CDO-ALLDAYEVENT:FALSE
SUMMARY:Connected 2022 with Enlighten Designs
DESCRIPTION:Join us for an evening of drinks & networking where we will present some of our recent client success stories.\n\n\n\nSpace is Limited. Book Your Seat\n\nWhats on?\n\n\n\n\nConnected 2022 is a chance to see "behind the curtain" of some exciting local projects.\n\nYou will hear from speakers from WEL Networks\, Waikato Regional Council\, and Enlighten Designs on some of their recent technology success stories.\n\nAfter\, mingle with local professionals & get inspiration for your next project over complimentary food & drinks. \n\n \n\n\n\nNetwork with the best\n\n\n\n\n\nWe have missed getting together with our peers & clients over the last few years to share stories & build relationships.\n\nJoin us for a drink & get to know other Hamilton professionals.\n\n\n\n\n \n\n\nStay on top of trends\n\n\n\n\n\nWe have been working with our clients to create some amazing design solutions\, leveraging the latest information technology.\n\nCheck out these local success stories to inspire your next project.  \n\n \n\nRegister Now\n\nSpace is Limited. Book Your Seat
X-ALT-DESC;FMTTYPE=text/html:<div>\n<p><span style="font-size:14px"><span style="font-family:hind\,sans-serif">Join us for an evening of drinks &amp\; networking where we will present some of our recent client success stories.<br />\n<br />\n<strong><a href="https://connected2022.enlighten.co.nz/">Space is Limited. Book Your Seat</a></strong></span></span></p>\n\n<h2 style="font-style:inherit">Whats on?</h2>\n</div>\n\n<div>\n<div>\n<p>Connected 2022 is a chance to see &quot\;behind the curtain&quot\; of some exciting local projects.</p>\n\n<p>You will hear from speakers from WEL Networks\, Waikato Regional Council\, and Enlighten Designs on some of their recent technology success stories.</p>\n\n<p>After\, mingle with local professionals &amp\; get inspiration for your next project over complimentary food &amp\; drinks.&nbsp\;<br />\n&nbsp\;</p>\n\n<div>\n<div>\n<h2>Network with the best</h2>\n</div>\n</div>\n\n<div>\n<div>\n<p>We have missed getting together with our peers &amp\; clients over the last few years to share stories &amp\; build relationships.</p>\n\n<p>Join us for a drink &amp\; get to know other Hamilton professionals.</p>\n</div>\n</div>\n\n<div>\n<div>&nbsp\;</div>\n\n<div>\n<h2>Stay on top of trends</h2>\n</div>\n</div>\n\n<div>\n<div>\n<p>We have been working with our clients to create some amazing design solutions\, leveraging the latest information technology.</p>\n\n<p>Check out these local success stories to inspire your next project.&nbsp\;&nbsp\;<br />\n&nbsp\;</p>\n\n<h2>Register Now</h2>\n\n<p><strong><a href="https://connected2022.enlighten.co.nz/">Space is Limited. Book Your Seat</a></strong></p>\n</div>\n</div>\n</div>\n</div>\n
LOCATION:Hamilton\, CBD Please register for the event for location information
UID:e.2751.3939
SEQUENCE:3
DTSTAMP:20260425T180143Z
URL:https://business.waikatochamber.co.nz/events/details/connected-2022-with-enlighten-designs-3939
END:VEVENT

END:VCALENDAR
