BEGIN:VCALENDAR
VERSION:2.0
PRODID:-//ChamberMaster//Event Calendar 2.0//EN
METHOD:PUBLISH
X-PUBLISHED-TTL:P3D
REFRESH-INTERVAL:P3D
CALSCALE:GREGORIAN
BEGIN:VEVENT
DTSTART;VALUE=DATE:20180418
DTEND;VALUE=DATE:20180419
TRANSP:TRANSPARENT
X-MICROSOFT-CDO-ALLDAYEVENT:TRUE
SUMMARY:Coaching - A Leadership Skill
DESCRIPTION:Empower your team through clear leadership.\n\n\n\nCoaching can look easy - until you're called on to deliver it yourself! If your role calls for training or mentoring others\, here's a course that'll give you powerful skills for creating strong performers all around you.\n\n\n\nThis course shows you the key skills demonstrated by effective coaches\, then it shows you how to bring them into your own day to day practice. We'll train you in communication skills that reveal what people really need plus give you the basic coaching skills needed for individual and group training. We'll touch on goal setting\, learning styles and teach you how to use one powerful tool for gaining buy in from the people you mentor. We'll finish with the four-step coaching model that you can apply anytime\, anywhere.
X-ALT-DESC;FMTTYPE=text/html:<div>\n<h3><br />\n<span style="font-size:16px">Empower your team through clear leadership.</span></h3>\n</div>\n\n<div>\n<div><span style="font-size:16px">Coaching can look easy - until you&rsquo\;re called on to deliver it yourself! If your role calls for training or mentoring others\, here&rsquo\;s a course that&rsquo\;ll give you powerful skills for creating strong performers all around you.</span></div>\n</div>\n<br />\n<span style="font-size:14px"><span style="color:rgb(55\, 58\, 60)\; font-family:source sans pro\,arial\,tahoma\,sans-serif">This course shows you the key skills demonstrated by effective coaches\, then it shows you how to bring them into your own day to day practice. We&rsquo\;ll train you in communication skills that reveal what people really need plus give you the basic coaching skills needed for individual and group training. We&rsquo\;ll touch on goal setting\, learning styles and teach you how to use one powerful tool for gaining buy in from the people you mentor. We&rsquo\;ll finish with the four-step coaching model that you can apply anytime\, anywhere.</span></span>
LOCATION:Wintec City Campus Gate 3 Tristram Street Hamilton 3240
UID:e.2751.1260
SEQUENCE:3
DTSTAMP:20260423T091737Z
URL:https://business.waikatochamber.co.nz/events/details/coaching-a-leadership-skill-1260
END:VEVENT

END:VCALENDAR
