BEGIN:VCALENDAR
VERSION:2.0
PRODID:-//ChamberMaster//Event Calendar 2.0//EN
METHOD:PUBLISH
X-PUBLISHED-TTL:P3D
REFRESH-INTERVAL:P3D
CALSCALE:GREGORIAN
BEGIN:VEVENT
DTSTART:20220930T000000Z
DTEND:20220930T010000Z
X-MICROSOFT-CDO-ALLDAYEVENT:FALSE
SUMMARY:CADETMAX - Employer Networking Event
DESCRIPTION:Have a job vacancy suitable for a career starter? As part of the CadetMax programme\, you have the chance to meet eager young job seekers on 30 September at a 20 minute casual networking session. Find out more details here.
X-ALT-DESC;FMTTYPE=text/html:<span style="font-size:14px">Have a job vacancy suitable for a career starter?&nbsp\;As part of the CadetMax programme\, you have the chance to meet eager young job seekers on 30 September at a 20 minute casual networking session.&nbsp\;Find out more details <a href="https://mcusercontent.com/3069ddbdfdc935196b0420b7f/files/1af72b32-3d75-c768-6674-942f9ed863a2/Hamilton_Employer_Invite.pdf" target="_blank">here</a>.</span>
LOCATION:Kathleen Glenn room\, Level 2\, Central Library 9 Garden Place
UID:e.2751.3940
SEQUENCE:3
DTSTAMP:20260425T191551Z
URL:https://business.waikatochamber.co.nz/events/details/cadetmax-employer-networking-event-3940
END:VEVENT

END:VCALENDAR
