BEGIN:VCALENDAR
VERSION:2.0
PRODID:-//ChamberMaster//Event Calendar 2.0//EN
METHOD:PUBLISH
X-PUBLISHED-TTL:P3D
REFRESH-INTERVAL:P3D
CALSCALE:GREGORIAN
BEGIN:VEVENT
DTSTART;VALUE=DATE:20180413
DTEND;VALUE=DATE:20180414
TRANSP:TRANSPARENT
X-MICROSOFT-CDO-ALLDAYEVENT:TRUE
SUMMARY:Business Writing that Works
DESCRIPTION:Be heard\, be understood and get the results you're after.\n\n\n\n\n\nThe ability to communicate using the written word plays a huge role in business success. Yet most of us have received little or no formal training in this necessary skill. Here's your opportunity to master the essentials.\n\n\n\nIn this course\, you'll develop your ability to see your writing through the reader's eyes. You'll discover the things that get in the way of clear communication\, as well as techniques for getting your message across more clearly. You'll come away with a new ability to communicate your ideas clearly and powerfully.  It's also likely that you'll start writing faster\, freeing you up to get more done with your time.
X-ALT-DESC;FMTTYPE=text/html:<div>\n<h3><br />\n<span style="font-size:18px">Be heard\, be understood and get the results you&rsquo\;re after.</span></h3>\n</div>\n\n<div>\n<div><br />\n<span style="font-size:14px"><span style="font-size:16px">The ability to communicate using the written word plays a huge role in business success. Yet most of us have received little or no formal training in this necessary skill. Here&rsquo\;s your opportunity to master the essentials.</span><br />\n<br />\n<span style="color:rgb(55\, 58\, 60)\; font-family:source sans pro\,arial\,tahoma\,sans-serif">In this course\, you&rsquo\;ll develop your ability to see your writing through the reader&rsquo\;s eyes. You&rsquo\;ll discover the things that get in the way of clear communication\, as well as techniques for getting your message across more clearly.&nbsp\;You&rsquo\;ll come away with a new ability to communicate your ideas clearly and powerfully.&nbsp\; It&rsquo\;s also likely that you&rsquo\;ll start writing faster\, freeing you up to get more done with your time.&nbsp\;</span></span></div>\n</div>\n
LOCATION:Wintec City Campus Gate 3 Tristram Street Hamilton 3240
UID:e.2751.1259
SEQUENCE:3
DTSTAMP:20260423T093233Z
URL:https://business.waikatochamber.co.nz/events/details/business-writing-that-works-04-13-2018-1259
END:VEVENT

END:VCALENDAR
