BEGIN:VCALENDAR
VERSION:2.0
PRODID:-//ChamberMaster//Event Calendar 2.0//EN
METHOD:PUBLISH
X-PUBLISHED-TTL:P3D
REFRESH-INTERVAL:P3D
CALSCALE:GREGORIAN
BEGIN:VEVENT
DTSTART:20190821T033000Z
DTEND:20190821T073000Z
X-MICROSOFT-CDO-ALLDAYEVENT:FALSE
SUMMARY:Business is Magic: Lessons for business from high performance sport
DESCRIPTION:Join us for a unique and interactive workshop designed to improve teamwork and develop your leadership skills\, delivered by elite athletes and coaches.\n\n\n\nSplice Construction Magic management and players share synergies between sport and business on the topics of building world class teams\, developing team culture\, effective governance\, integrating new team members and resilience. Join Ruth Aitken\, Amigene Metcalfe\, Casey Kopua\, Samantha Sinclair and Dr Bev Edlin for a unique professional development and networking opportunity.\n\n\n\nEvent details:\n\n3:30pm   Arrival at venue\n\n3:45pm   Welcome and Introduction\n\n4:00-4:30pm   On court activities   working on communication\, teamwork and leadership   led by Amigene  Metcalfe\, supported by Casey Kopua and Sam Sinclair\n\n4:30-6:30pm   Breakout Groups (30 minutes per group)   Ruth Aitken on Building World Class Teams\;   Amigene Metcalfe on Developing Team Culture\; Dr Bev Edlin on The Building Blocks of Good Corporate Governance\; Casey Kopua & Sam Sinclair on Resilience and Integrating New Team Members\n\n6:30-7:30pm   Drinks and nibbles   mix\, mingle and network
X-ALT-DESC;FMTTYPE=text/html:<strong>Join us for a unique and interactive workshop designed to improve teamwork and develop your leadership skills\, delivered by elite athletes and coaches.</strong><br />\n<br />\nSplice Construction Magic management and players share synergies between sport and business on the topics of building world class teams\, developing team culture\, effective governance\, integrating new team members and resilience. Join Ruth Aitken\, Amigene Metcalfe\, Casey Kopua\, Samantha Sinclair and Dr Bev Edlin for a unique professional development and networking opportunity.<br />\n<br />\nEvent details:<br />\n<strong>3:30pm</strong> &ndash\; Arrival at venue<br />\n<strong>3:45pm</strong> &ndash\; Welcome and Introduction<br />\n<strong>4:00-4:30pm</strong> &ndash\; On court activities &ndash\; working on communication\, teamwork and leadership &ndash\; led by Amigene&nbsp\; Metcalfe\, supported by Casey Kopua and Sam Sinclair<br />\n<strong>4:30-6:30pm</strong> &ndash\; Breakout Groups (30 minutes per group) &ndash\; Ruth Aitken on Building World Class Teams\;&nbsp\; &nbsp\;Amigene Metcalfe on Developing Team Culture\; Dr Bev Edlin on The Building Blocks of Good Corporate Governance\; Casey Kopua &amp\; Sam Sinclair on Resilience and Integrating New Team Members<br />\n<strong>6:30-7:30pm</strong> &ndash\; Drinks and nibbles &ndash\; mix\, mingle and network<br />\n&nbsp\;
LOCATION:The University of Waikato
UID:e.2751.2664
SEQUENCE:3
DTSTAMP:20260422T220100Z
URL:https://business.waikatochamber.co.nz/events/details/business-is-magic-lessons-for-business-from-high-performance-sport-2664
END:VEVENT

END:VCALENDAR
