BEGIN:VCALENDAR
VERSION:2.0
PRODID:-//ChamberMaster//Event Calendar 2.0//EN
METHOD:PUBLISH
X-PUBLISHED-TTL:P3D
REFRESH-INTERVAL:P3D
CALSCALE:GREGORIAN
BEGIN:VEVENT
DTSTART:20200626T010000Z
DTEND:20200626T020000Z
X-MICROSOFT-CDO-ALLDAYEVENT:FALSE
SUMMARY:Business in a Post-Covid World: Challenges and Implications for NZ Businesses
DESCRIPTION:COVID-19 has exposed significant weaknesses\, fissures and vulnerabilities in many supply chains around the globe.  New Zealand has experienced disruption in both exporting and importing activities causing significant economic losses.\n\nWhile international trade remains crucial for NZ businesses\, they may choose to re-evaluate reliance of critical supplies on certain countries\, or a single external source.  They may opt to shorten far-flung global supply chains and make them more regional to exert more control.  Such changes are likely to have significant implications for NZ businesses.  \n\nHosted by the Waikato Chamber of Commerce in conjunction with the Waikato Management School\, this webinar will bring together four experts to discuss possible scenarios that are likely to unfold in the realignment of supply chains\, and their implications for NZ business. \n\n- Anna Strutt (Professor of Economics\, Waikato Management School\; expert on global trade): Global Trade Impacts\n\n- Mia Mikic (Director of the Trade\, Investment and Innovation Division\, United Nations ESCAP): Asia-Pacific Perspectives\n\n- Frank Scrimgeour (Professor Frank Scrimgeour\, Waikato Management School\; expert in NZ business economics): NZ Challenges \n\n- Lain Jager (former CEO Zespri International): Governance and Management Considerations at the Firm level
X-ALT-DESC;FMTTYPE=text/html:<span style="color:black\;"><span style="font-family:calibri light\,sans-serif\;">COVID-19 has exposed significant weaknesses\, fissures and vulnerabilities in many supply chains around the globe.&nbsp\; New Zealand has experienced disruption in both exporting and importing activities causing significant economic losses.</span></span><br />\n<span style="color:black\;"><span style="font-family:calibri light\,sans-serif\;">While international trade remains crucial for NZ businesses\, they may choose to re-evaluate reliance of critical supplies on certain countries\, or a single external source.&nbsp\; They may opt to shorten far-flung global supply chains and make them more regional to exert more control.&nbsp\; Such changes are likely to have significant implications for NZ businesses.&nbsp\; </span></span><br />\n<span style="color:black\;"><span style="font-family:calibri light\,sans-serif\;">Hosted by the Waikato Chamber of Commerce in conjunction with the Waikato Management School\, this webinar will bring together four experts to discuss possible scenarios that are likely to unfold in the realignment of supply chains\, and their implications for NZ business. </span></span><br />\n<span style="color:black\;"><span style="font-family:calibri light\,sans-serif\;">- Anna Strutt <em>(Professor of Economics\, Waikato Management School\; expert on global trade)</em>: Global Trade Impacts</span></span><br />\n<span style="color:black\;"><span style="font-family:calibri light\,sans-serif\;">- Mia Mikic <em>(Director of the Trade\, Investment and Innovation Division\, United Nations ESCAP)</em>: Asia-Pacific Perspectives</span></span><br />\n<span style="color:black\;"><span style="font-family:calibri light\,sans-serif\;">- Frank Scrimgeour <em>(Professor Frank Scrimgeour\, Waikato Management School\; expert in NZ business economics)</em>: NZ Challenges </span></span><br />\n<span style="color:black\;"><span style="font-family:calibri light\,sans-serif\;">- Lain&nbsp\;Jager <em>(former CEO Zespri International)</em>: Governance and Management Considerations at the Firm level</span></span>
LOCATION:Webinar - the link to join will be included in your confirmation email.
UID:e.2751.2741
SEQUENCE:3
DTSTAMP:20260421T164912Z
URL:https://business.waikatochamber.co.nz/events/details/business-in-a-post-covid-world-challenges-and-implications-for-nz-businesses-2741
END:VEVENT

END:VCALENDAR
