BEGIN:VCALENDAR
VERSION:2.0
PRODID:-//ChamberMaster//Event Calendar 2.0//EN
METHOD:PUBLISH
X-PUBLISHED-TTL:P3D
REFRESH-INTERVAL:P3D
CALSCALE:GREGORIAN
BEGIN:VEVENT
DTSTART:20220810T050000Z
DTEND:20220810T060000Z
X-MICROSOFT-CDO-ALLDAYEVENT:FALSE
SUMMARY:Business For Purpose – Drop Your Boss
DESCRIPTION:Rothbury Insurance Brokers have partnered with Graeme Dingle Foundation Waikato to bring you our next networking event.   \n\n\n\nCome along and meet our team and hear what's important in the insurance world right now.  Graeme Dingle Foundation Waikato will also be launching their next fundraising event for 2022. \n\n\n\nDrinks & nibbles provided.\n\n\n\nPlease RSVP
X-ALT-DESC;FMTTYPE=text/html:<span style="color:#202020"><span style="font-family:helvetica\,sans-serif"><span style="font-size:10.0pt">Rothbury</span></span></span><span style="font-family:helvetica\,sans-serif"><span style="font-size:10.0pt"> Insurance Brokers<span style="color:#202020"> have partnered&nbsp\;with Graeme Dingle Foundation Waikato to bring you our next&nbsp\;networking event.&nbsp\;&nbsp\;&nbsp\;</span><br />\n<br />\nCome along and meet our team and hear what&rsquo\;s important in the insurance world right now.&nbsp\; <span style="color:#202020">Graeme Dingle Foundation Waikato will also be launching their next fundraising </span>event<span style="color:#202020"> for 2022.&nbsp\;<br />\n<br />\nDrinks &amp\; </span>n<span style="color:#202020">ibbles </span>p<span style="color:#202020">rovided.<br />\n<br />\nPlease <a href="https://forms.office.com/r/bKiCmr403b">RSVP</a>&nbsp\;</span></span></span><br />\n&nbsp\;
LOCATION:
UID:e.2751.3914
SEQUENCE:3
DTSTAMP:20260425T175900Z
URL:https://business.waikatochamber.co.nz/events/details/business-for-purpose-drop-your-boss-3914
END:VEVENT

END:VCALENDAR
