BEGIN:VCALENDAR
VERSION:2.0
PRODID:-//ChamberMaster//Event Calendar 2.0//EN
METHOD:PUBLISH
X-PUBLISHED-TTL:P3D
REFRESH-INTERVAL:P3D
CALSCALE:GREGORIAN
BEGIN:VEVENT
DTSTART:20161122T210000Z
DTEND:20161122T223000Z
X-MICROSOFT-CDO-ALLDAYEVENT:FALSE
SUMMARY:Business Briefing: Kevin Stirrat\, Forsyth Barr
DESCRIPTION:Join Forsyth Barr's Head of Investment Strategy\, Kevin Stirrat\, as he discusses the implications for the global economy and geopolitical relationships (including NZ) from the US presidential election.\n\n\n\nAbout Kevin Stirrat:\n\n\n\nKevin Stirrat joined Forsyth Barr in 2005. He has over 27 years of experience in the areas of money market research\, trading and sales\, liability management\, fixed income distribution\, balance sheet management and asset management.\n\n\n\nKevin is the Head of Investment Strategy for Forsyth Barr. He provides dedicated research on global macro themes for New Zealand based investors including key asset allocation implications. He has specific responsibilities for firm wide tactical asset allocation and currency hedging decisions. He also leads the investment strategy discussion within the Forsyth Barr Investment Committee.\n\n\n\nDisclosure Statements are available on request and free of charge.\n\n\n\nRegister online\, or email help@waikatochamber.co.nz.
X-ALT-DESC;FMTTYPE=text/html:Join Forsyth Barr&rsquo\;s Head of Investment Strategy\, Kevin Stirrat\, as he discusses the implications for the global economy and geopolitical relationships (including NZ) from the US presidential election.<br />\n<br />\nAbout Kevin Stirrat:<br />\n<br />\nKevin Stirrat joined Forsyth Barr in 2005. He has over 27 years of experience in the areas of money market research\, trading and sales\, liability management\, fixed income distribution\, balance sheet management and asset management.<br />\n<br />\nKevin is the Head of Investment Strategy for Forsyth Barr. He provides dedicated research on global macro themes for New Zealand based investors including key asset allocation implications. He has specific responsibilities for firm wide tactical asset allocation and currency hedging decisions. He also leads the investment strategy discussion within the Forsyth Barr Investment Committee.<br />\n<br />\nDisclosure Statements are available on request and free of charge.<br />\n<br />\nRegister online\, or email&nbsp\;help@waikatochamber.co.nz.
LOCATION:Whitiora Room\, Novotel Tainui Hotel 7 Alma Street\, Hamilton
UID:e.2751.27
SEQUENCE:3
DTSTAMP:20260424T142223Z
URL:https://business.waikatochamber.co.nz/events/details/business-briefing-kevin-stirrat-forsyth-barr-27
END:VEVENT

END:VCALENDAR
