BEGIN:VCALENDAR
VERSION:2.0
PRODID:-//ChamberMaster//Event Calendar 2.0//EN
METHOD:PUBLISH
X-PUBLISHED-TTL:P3D
REFRESH-INTERVAL:P3D
CALSCALE:GREGORIAN
BEGIN:VEVENT
DTSTART:20210624T190000Z
DTEND:20210624T203000Z
X-MICROSOFT-CDO-ALLDAYEVENT:FALSE
SUMMARY:Business & Alumni Breakfast
DESCRIPTION:Introducing the second Business & Alumni Breakfast\, in partnership with the University of Waikato\,  we are bringing together the Waikato Business community leaders and the University of Waikato Alumni community. \n\n\n\nSpeaking at this event is Grant Johnson\, CEO and Co-founder of Rocketspark and 2021 Waip  Networks Business Supreme Award Winner.\n\n \n\nRocketspark is a website builder that enables people to create websites code-free. Rocketspark is based in Cambridge\, New Zealand\, with customers around the world.\n\n \n\nBootstrapping a software startup has provided Grant with a deep empathy for business owners and a true passion for helping them succeed online. Prior to founding Rocketspark Grant had a varied career in business roles across accounting\, marketing\, online\, and customer experience in NZ and abroad.\n\n \n\nGrant was born and educated in the Waikato where he received a Bachelor of Management Studies (Hons) from the University of Waikato majoring in accounting and marketing.\n\n \n\nGrant also founded and later sold an online store and has hands-on experience of the challenges and opportunities to launch and grow digital businesses.
X-ALT-DESC;FMTTYPE=text/html:<br />\nIntroducing the second Business &amp\; Alumni Breakfast\, in partnership with the University of Waikato\,&nbsp\; we are bringing together the Waikato Business community leaders and the University of Waikato Alumni community.&nbsp\;<br />\n<br />\nSpeaking at this event is Grant Johnson\, CEO and Co-founder of Rocketspark and 2021 Waip&#257\; Networks Business Supreme Award Winner.<br />\n&nbsp\;<br />\nRocketspark is a website builder that enables people to create websites code-free. Rocketspark is based in Cambridge\, New Zealand\, with customers around the world.<br />\n&nbsp\;<br />\nBootstrapping a software startup has provided Grant with a deep empathy for business owners and a true passion for helping them succeed online. Prior to founding Rocketspark Grant had a varied career in business roles across accounting\, marketing\, online\, and customer experience in NZ and abroad.<br />\n&nbsp\;<br />\nGrant was born and educated in the Waikato where he received a Bachelor of Management Studies (Hons) from the University of Waikato majoring in accounting and marketing.<br />\n&nbsp\;<br />\nGrant also founded and later sold an online store and has hands-on experience of the challenges and opportunities to launch and grow digital businesses.<br />\n&nbsp\;
LOCATION:Waikato Management School\, MSB1.20 and MSB1.21 Hillcrest Road\, Hamilton
UID:e.2751.2822
SEQUENCE:3
DTSTAMP:20260426T041457Z
URL:https://business.waikatochamber.co.nz/events/details/business-alumni-breakfast-2822
END:VEVENT

END:VCALENDAR
