BEGIN:VCALENDAR
VERSION:2.0
PRODID:-//ChamberMaster//Event Calendar 2.0//EN
METHOD:PUBLISH
X-PUBLISHED-TTL:P3D
REFRESH-INTERVAL:P3D
CALSCALE:GREGORIAN
BEGIN:VEVENT
DTSTART:20210527T190000Z
DTEND:20210527T203000Z
X-MICROSOFT-CDO-ALLDAYEVENT:FALSE
SUMMARY:Business & Alumni Breakfast
DESCRIPTION:Introducing the first Business & Alumni Breakfast\, in partnership with the University of Waikato\,  we are bringing together the Waikato Business community leaders and the University of Waikato Alumni community. \n\n\n\nIn the first Alumni Breakfast Conversation of 2021 Founder and CEO of Shift72\, David White\, speaks to MBA Alumni and the business community.\n\n \n\nShift72\, a hamilton-based technology start-up\, has experienced rapid growth over the last 12-months - growing from a team of 10 to 45 Staff and providing video streaming technology to customers across 51 countries.\n\n \n\nShift72 licenses its software to hundreds of film festivals\, cinemas and entertainment brands around the world\, including the most prestigious festivals such as Sundance\, Cannes\, Toronto\, New York\, and London\, along with some of the largest cinema chains and entertainment brands.\n\n \n\nShift72 has also emerged as a leading content aggregator working with Major Studios including Universal\, Paramount\, Warner Brothers & Sony to aggregate content globally across Shift72's network on Video streaming shopfronts.\n\n \n\nDavid has spent over 20-years in the technology start-up space. He has ridden the ups and downs of startups and has a wealth of experience in the sector.
X-ALT-DESC;FMTTYPE=text/html:Introducing the first Business &amp\; Alumni Breakfast\, in partnership with the University of Waikato\,&nbsp\; we are bringing together the Waikato Business community leaders and the University of Waikato Alumni community.&nbsp\;<br />\n<br />\nIn the first Alumni Breakfast Conversation of 2021 Founder and CEO of Shift72\, David White\, speaks to MBA Alumni and the business community.<br />\n&nbsp\;<br />\nShift72\, a hamilton-based technology start-up\, has experienced rapid growth over the last 12-months - growing from a team of 10 to 45 Staff and providing video streaming technology to customers across 51 countries.<br />\n&nbsp\;<br />\nShift72 licenses its software to hundreds of film festivals\, cinemas and entertainment brands around the world\, including the most prestigious festivals such as Sundance\, Cannes\, Toronto\, New York\, and London\, along with some of the largest cinema chains and entertainment brands.<br />\n&nbsp\;<br />\nShift72 has also emerged as a leading content aggregator working with Major Studios including Universal\, Paramount\, Warner Brothers &amp\; Sony to aggregate content globally across Shift72&#39\;s network on Video streaming shopfronts.<br />\n&nbsp\;<br />\nDavid has spent over 20-years in the technology start-up space. He has ridden the ups and downs of startups and has a wealth of experience in the sector.
LOCATION:Waikato Management School\, MSB1.20 and MSB1.21 Hillcrest Road\, Hamilton
UID:e.2751.2812
SEQUENCE:3
DTSTAMP:20260426T024606Z
URL:https://business.waikatochamber.co.nz/events/details/business-alumni-breakfast-2812
END:VEVENT

END:VCALENDAR
