BEGIN:VCALENDAR
VERSION:2.0
PRODID:-//ChamberMaster//Event Calendar 2.0//EN
METHOD:PUBLISH
X-PUBLISHED-TTL:P3D
REFRESH-INTERVAL:P3D
CALSCALE:GREGORIAN
BEGIN:VEVENT
DTSTART:20210303T200000Z
DTEND:20210304T000000Z
X-MICROSOFT-CDO-ALLDAYEVENT:FALSE
SUMMARY:Building Your Resilience
DESCRIPTION:What's it about? Resilience is the capacity to withstand and adapt to the challenges life throws us. It is a skill anyone can learn\, to survive and to thrive. Resilience is the vital element which enables people of all levels cope with setbacks\, change and keep pressures from work and life challenges positive. Gain valuable insight in to stress and how it can be reduced and managed at both a practical and cognitive level. With the right strategies you can remain productive\, focused and emotionally strong whatever work or life challenges you are confronted with. This interactive workshop will explore: Practical tips to improve your resilience Proactive management of emotions in yourself and others to alleviate stress and face pressures effectively Intentional activities to build resilience at work and home Benefits: Balanced emotion management Increased productivity Improved workplace relationships Focused decision making and problem solving Ability to stay resourceful in the face of challenges Could your team benefit from this workshop? Call us for in-house pricing options. This workshop is registered with the Management Capability Development Voucher Fund: Small businesses may qualify for vouchers to help pay for services such as training workshops\, courses and coaching that build the management capabilities of their owners\, operators and key managers. Talk to us about how we can assist you to use this government initiative. Call one of the team at Everest - we're here to help!
X-ALT-DESC;FMTTYPE=text/html:What&rsquo\;s it about? Resilience is the capacity to withstand and adapt to the challenges life throws us. It is a skill anyone can learn\, to survive and to thrive. Resilience is the vital element which enables people of all levels cope with setbacks\, change and keep pressures from work and life challenges positive. Gain valuable insight in to stress and how it can be reduced and managed at both a practical and cognitive level. With the right strategies you can remain productive\, focused and emotionally strong whatever work or life challenges you are confronted with. This interactive workshop will explore: Practical tips to improve your resilience Proactive management of emotions in yourself and others to alleviate stress and face pressures effectively Intentional activities to build resilience at work and home Benefits: Balanced emotion management Increased productivity Improved workplace relationships Focused decision making and problem solving Ability to stay resourceful in the face of challenges Could your team benefit from this workshop? Call us for in-house pricing options. This workshop is registered with the Management Capability Development Voucher Fund: Small businesses may qualify for vouchers to help pay for services such as training workshops\, courses and coaching that build the management capabilities of their owners\, operators and key managers. Talk to us about how we can assist you to use this government initiative. Call one of the team at Everest - we&rsquo\;re here to help!
LOCATION:Waikato Innovation Park\, Ruakura Road\, Gallagher Building\, Ruakura Conference Room\, 1st Floor\, Hamilton
UID:e.2751.2783
SEQUENCE:3
DTSTAMP:20260426T001129Z
URL:https://business.waikatochamber.co.nz/events/details/building-your-resilience-03-04-2021-2783
END:VEVENT

END:VCALENDAR
